BEGIN:VCALENDAR
VERSION:2.0
PRODID:-//ChamberMaster//Event Calendar 2.0//EN
METHOD:PUBLISH
X-PUBLISHED-TTL:P3D
REFRESH-INTERVAL:P3D
CALSCALE:GREGORIAN
BEGIN:VEVENT
DTSTART:20131212T220000Z
DTEND:20131213T000000Z
X-MICROSOFT-CDO-ALLDAYEVENT:FALSE
SUMMARY:Holiday Gala of Giving at the Chamber
DESCRIPTION:Celebrate the Holiday Season with the Chamber\, enjoy Food\, Beverage and Music by Symphony Nova.\n\nAll our Welcome to Attend\, please RSVP so we can plan accordingly.\n\n \n\nWOULD YOU LIKE TO GIVE BACK?\n\n\n\nBE A SANTA TO A SENIOR (Access List of Requests) - Google Doc\n\nTOYS FOR TOTS (New and Unwrapped Please!)\n\nWESTSIDE BENEVOLENT (New Items Please) Ideas for Kids: Sweats\, Kids Hats\, Mittens\, Youth Gloves Ideas for Teens: Gift Cards\, Hoodie Sweatshirts (Sizes Med\, Large or XL)\n\nSUPPORT OUR TROOPS (Chamber has a list of Requests) Some Items Include\; Batteries\, lotions\, shaving cream\, nuts\, paper\, pens...\n\n\n\nFOOD & BEVERAGE SPONSOR -   TBD
X-ALT-DESC;FMTTYPE=text/html:Celebrate the Holiday Season with the Chamber\, enjoy Food\, Beverage and Music by&nbsp\;Symphony Nova.<br />\nAll our Welcome to Attend\, please RSVP so we can plan accordingly.<br />\n&nbsp\;<br />\nWOULD YOU LIKE TO GIVE BACK?<br />\n<br />\n<strong>BE A SANTA TO A SENIOR</strong> (<a href="https://docs.google.com/spreadsheet/ccc?key=0AvG0HovegfJUdGlKTktWd2xjR3p3dVhGNzN0VmZhbXc&amp\;usp=sharing">Access List of Requests</a>) - Google Doc<br />\n<strong>TOYS FOR TOTS </strong>(New and Unwrapped Please!)<br />\n<strong>WESTSIDE BENEVOLENT</strong> (New Items Please) Ideas for Kids: Sweats\, Kids Hats\, Mittens\, Youth Gloves Ideas for Teens: Gift Cards\, Hoodie Sweatshirts (Sizes Med\, Large or XL)<br />\n<strong>SUPPORT OUR TROOPS</strong> (Chamber has a list of Requests) Some Items Include\; Batteries\, lotions\, shaving cream\, nuts\, paper\, pens...<br />\n<br />\nFOOD &amp\; BEVERAGE SPONSOR - &nbsp\; TBD
LOCATION:Tri-Town Chamber of Commerce at 280 School St.\, Suite L 100 (Enter Mansfield Crossing and follow road to the right and behind Kohl's)
UID:e.1730.26
SEQUENCE:3
DTSTAMP:20260421T064530Z
URL:https://www.tri-townchamber.org/events/details/holiday-gala-of-giving-at-the-chamber-12-12-2013-26
END:VEVENT

END:VCALENDAR
