BEGIN:VCALENDAR
VERSION:2.0
PRODID:-//ChamberMaster//Event Calendar 2.0//EN
METHOD:PUBLISH
X-PUBLISHED-TTL:P3D
REFRESH-INTERVAL:P3D
CALSCALE:GREGORIAN
BEGIN:VEVENT
DTSTART:20141211T220000Z
DTEND:20141212T000000Z
X-MICROSOFT-CDO-ALLDAYEVENT:FALSE
SUMMARY:Holiday Gala of Giving at the Chamber
DESCRIPTION:You are invited to join the Tri-Town Chamber of Commerce for our annual Holiday of Giving Gala. There will be plenty of food\, friends and networking and If you wish to participate in our effort to give back and come with a donation for one of the below mentioned organizations\, your ticket is Free!    Wish Lists for each organization are available at the Chamber.\n\n \n\nWOULD YOU LIKE TO GIVE BACK?\n\n\n	BE A SANTA TO A SENIOR  - Google Doc available \n	TOYS FOR TOTS (New and Unwrapped Please!)\n	WESTSIDE BENEVOLENT (New Items Please) Ideas for Kids: Sweats\, Kids Hats\, Mittens\, Youth Gloves Ideas for Teens: Gift Cards\, Hoodie Sweatshirts (Sizes Med\, Large or XL)\n	SUPPORT OUR TROOPS (Chamber will have a list of Requests) Some Items Include\; Batteries\, lotions\, shaving cream\, nuts\, paper\, pens...
X-ALT-DESC;FMTTYPE=text/html:<span style="font-size:14px\;"><strong>You are invited to join the Tri-Town Chamber of Commerce for our annual Holiday of Giving Gala.&nbsp\;There will be plenty of food\, friends and networking and If you wish to participate in our effort to give back and come with a donation for one of the below mentioned organizations\, your ticket is Free!</strong> &nbsp\; &nbsp\;<em>Wish Lists for each organization are available at the Chamber.</em></span><br />\n<span style="font-size:12px\;"><span style="font-family:arial\;">&nbsp\;<br />\n<strong>WOULD YOU LIKE TO GIVE BACK?</strong></span></span>\n\n<ul>\n	<li><span style="font-size:12px\;"><span style="font-family:arial\;"><strong>BE A SANTA TO A SENIOR</strong> &nbsp\;- Google Doc available&nbsp\;</span></span></li>\n	<li><span style="font-size:12px\;"><span style="font-family:arial\;"><strong>TOYS FOR TOTS </strong>(New and Unwrapped Please!)</span></span></li>\n	<li><span style="font-size:12px\;"><span style="font-family:arial\;"><strong>WESTSIDE BENEVOLENT</strong> (New Items Please) Ideas for Kids: Sweats\, Kids Hats\, Mittens\, Youth Gloves Ideas for Teens: Gift Cards\, Hoodie Sweatshirts (Sizes Med\, Large or XL)</span></span></li>\n	<li><span style="font-size:12px\;"><span style="font-family:arial\;"><strong>SUPPORT OUR TROOPS</strong> (Chamber will have a list of Requests) Some Items Include\; Batteries\, lotions\, shaving cream\, nuts\, paper\, pens...</span></span></li>\n</ul>\n
LOCATION:Tri-Town Chamber of Commerce at 280 School St.\, Suite L 100 (Enter Mansfield Crossing and follow road to the right and behind Kohl's)
UID:e.1730.1079
SEQUENCE:3
DTSTAMP:20260420T101000Z
URL:https://www.tri-townchamber.org/events/details/holiday-gala-of-giving-at-the-chamber-12-11-2014-1079
END:VEVENT

END:VCALENDAR
