BEGIN:VCALENDAR
VERSION:2.0
PRODID:-//ChamberMaster//Event Calendar 2.0//EN
METHOD:PUBLISH
X-PUBLISHED-TTL:P3D
REFRESH-INTERVAL:P3D
CALSCALE:GREGORIAN
BEGIN:VEVENT
DTSTART:20151210T220000Z
DTEND:20151211T000000Z
X-MICROSOFT-CDO-ALLDAYEVENT:FALSE
SUMMARY:Holiday Gala of Giving at the Chamber
DESCRIPTION:You are invited to join the Tri-Town Chamber of Commerce for our annual Holiday of Giving Gala. There will be plenty of food\, friends and networking and If you wish to participate in our effort to give back and come with a donation for one of the below mentioned organizations\, your ticket is Free!    \n\nWish Lists for each organization are available at the Chamber.\n\n \n\nWOULD YOU LIKE TO GIVE BACK?\n\n\n	BE A SANTA TO A SENIOR  - Google Doc available (Click)\n	TOYS FOR TOTS (New and Unwrapped Please!)\n	WESTSIDE BENEVOLENT (Gift Cards for Teens or Families) Ideas are\;  Game Stop\, Capriotti's\, Stephano's Pizza\, Kohl's\, Stop & Shop\, Mansfield Deli\, Mansfield House of Pizza\, Dunkin Donuts\, Sports Authority or Best Buy.\n	SUPPORT OUR TROOPS  Some Items Include\;  Batteries\, lotions\, beef jerky\, nuts\, disposable razors\, paper\, pens......\n\n\n\n\nEvent Sponsors (as of 11/9/2015)\n\nMansfield Bank\n\nThe Xfinity Center\n\nThe Law Offices of Peter T Clark
X-ALT-DESC;FMTTYPE=text/html:<span style="font-family:arial\;"><span style="font-size:16px\;"><strong>You are invited to join the Tri-Town Chamber of Commerce for our annual Holiday of Giving Gala.&nbsp\;There will be plenty of food\, friends and networking and If you wish to participate in our effort to give back and come with a donation for one of the below mentioned organizations\, your ticket is Free!</strong> &nbsp\; &nbsp\;<br />\n<em>Wish Lists for each organization are available at the Chamber.</em><br />\n&nbsp\;<br />\n<strong>WOULD YOU LIKE TO GIVE BACK?</strong></span></span>\n\n<ul>\n	<li><span style="font-family:arial\;"><span style="font-size:16px\;"><strong>BE A SANTA TO A SENIOR</strong> &nbsp\;- Google Doc available (<a href="https://docs.google.com/spreadsheets/d/1N3AfiEfTJdBlSxLiPYn5i95Z4-29ULv902QzHN0qxP4/edit?usp=sharing">Click</a>)</span></span></li>\n	<li><span style="font-family:arial\;"><span style="font-size:16px\;"><strong>TOYS FOR TOTS </strong>(New and Unwrapped Please!)</span></span></li>\n	<li><span style="font-family:arial\;"><span style="font-size:16px\;"><strong>WESTSIDE BENEVOLENT</strong> (Gift Cards for Teens or Families) Ideas are\; &nbsp\;Game Stop\,&nbsp\;Capriotti&#39\;s\,&nbsp\;Stephano&#39\;s&nbsp\;Pizza\,&nbsp\;Kohl&#39\;s\, Stop &amp\; Shop\, Mansfield Deli\, Mansfield House of Pizza\, Dunkin Donuts\, Sports Authority or Best Buy.</span></span></li>\n	<li><span style="font-family:arial\;"><span style="font-size:16px\;"><strong>SUPPORT OUR TROOPS</strong>&nbsp\;&nbsp\;</span></span><span style="font-size:16px\;">Some Items Include\; &nbsp\;Batteries\, lotions\, beef jerky\, nuts\, disposable razors\, paper\, pens...<span style="font-family:arial\;">...</span></span></li>\n</ul>\n\n<div style="font-size: 14px\;"><br />\n<span style="font-family:arial\;"><em>Event Sponsors (as of 11/9/2015)</em></span>\n\n<p><span style="font-family:arial\;"><span style="font-size:22px\;"><span style="font-size:26px\;"><strong>Mansfield Bank</strong></span><br />\n<span style="line-height: 1.6\;">The Xfinity Center<br />\nThe Law Offices of Peter T Clark</span></span></span></p>\n</div>\n
LOCATION:Tri-Town Chamber of Commerce 280 School St.\, Suite L 100 (Enter Mansfield Crossing and follow road to the right and behind Kohl's)
UID:e.1730.1303
SEQUENCE:3
DTSTAMP:20260419T142156Z
URL:https://www.tri-townchamber.org/events/details/holiday-gala-of-giving-at-the-chamber-12-10-2015-1303
END:VEVENT

END:VCALENDAR
