BEGIN:VCALENDAR
VERSION:2.0
PRODID:-//ChamberMaster//Event Calendar 2.0//EN
METHOD:PUBLISH
X-PUBLISHED-TTL:P3D
REFRESH-INTERVAL:P3D
CALSCALE:GREGORIAN
BEGIN:VEVENT
DTSTART:20140327T110000Z
DTEND:20140327T131500Z
X-MICROSOFT-CDO-ALLDAYEVENT:FALSE
SUMMARY:Hockomock Area YMCA'S Annual Reach Out For Youth and Families Breakfast
DESCRIPTION:THE POWER OF Y VOICES\n\nYou are cordially invited to the Hockomock Area YMCA's Annual Reach Out For Youth and Families Breakfast.\n\n\n\nJoin us for a powerful morning to see and hear the IMPACT of the Hockomock Area YMCA in the communities we serve. Networking will begin at 7:00am\, Breakfast and Program to begin at 7:30am.\n\n\n\nPlease RSVP by March 21st to realimpact@hockmca.org\n\nand please cc: patrickm@hockymca.org
X-ALT-DESC;FMTTYPE=text/html:<span style="color:#FF0000\;"><span style="font-size:18px\;"><strong>THE POWER OF Y VOICES</strong><br />\nYou are cordially invited to the Hockomock Area YMCA&#39\;s Annual Reach Out For Youth and Families Breakfast.<br />\n<br />\nJoin us for a powerful morning to see and hear the IMPACT of the Hockomock Area YMCA in the communities we serve. Networking will begin at 7:00am\, Breakfast and Program to begin at 7:30am.<br />\n<br />\n<em><strong>Please RSVP by March 21st to realimpact@hockmca.org<br />\nand please cc: patrickm@hockymca.org&nbsp\;&nbsp\;</strong></em></span></span>
LOCATION:Gillette Stadium Putnam Club (East Side) Foxborough\, Massachusetts
UID:e.1730.983
SEQUENCE:3
DTSTAMP:20260421T015225Z
URL:https://www.tri-townchamber.org/events/details/hockomock-area-ymca-s-annual-reach-out-for-youth-and-families-breakfast-03-27-2014-983
END:VEVENT

END:VCALENDAR
