BEGIN:VCALENDAR
VERSION:2.0
PRODID:-//ChamberMaster//Event Calendar 2.0//EN
METHOD:PUBLISH
X-PUBLISHED-TTL:P3D
REFRESH-INTERVAL:P3D
CALSCALE:GREGORIAN
BEGIN:VEVENT
DTSTART:20150929T113000Z
DTEND:20150929T131500Z
X-MICROSOFT-CDO-ALLDAYEVENT:FALSE
SUMMARY:Highlights of Hope
DESCRIPTION:Join New Hope for a celebration of our work to end domestic and sexual violence in our community.\n\n\n\nHosted by:  Mario Alario\, Rhode Island NBC 10 Weekend/Sunrise Anchor
X-ALT-DESC;FMTTYPE=text/html:<span style="font-size:14px">Join New Hope for a celebration of our work to end domestic and sexual violence in our community.<br />\n<br />\nHosted by: &nbsp\;Mario Alario\, Rhode Island NBC 10 Weekend/Sunrise Anchor</span><br />\n&nbsp\;
LOCATION:Double Tree Milford\, 11 Beaver Street\, Milford\, MA
UID:e.1730.1711
SEQUENCE:3
DTSTAMP:20260419T190045Z
URL:https://www.tri-townchamber.org/events/details/highlights-of-hope-09-29-2015-1711
END:VEVENT

END:VCALENDAR
