BEGIN:VCALENDAR
VERSION:2.0
PRODID:-//ChamberMaster//Event Calendar 2.0//EN
METHOD:PUBLISH
X-PUBLISHED-TTL:P3D
REFRESH-INTERVAL:P3D
CALSCALE:GREGORIAN
BEGIN:VEVENT
DTSTART:20150903T180000Z
DTEND:20150903T230000Z
X-MICROSOFT-CDO-ALLDAYEVENT:FALSE
SUMMARY:Highland March Blood Drive
DESCRIPTION:The need is constant.\n\nThe gratification is instant.\n\nGive Blood.\n\n\n\nHighland March Blood Drive
X-ALT-DESC;FMTTYPE=text/html:The need is constant.<br />\nThe gratification is instant.<br />\nGive Blood.<br />\n<br />\nHighland March Blood Drive
LOCATION:Highland March 20 Cabot Blvd. (3rd Floor Conference Room) Mansfield MA
UID:e.1730.1701
SEQUENCE:3
DTSTAMP:20260419T204108Z
URL:https://www.tri-townchamber.org/events/details/highland-march-blood-drive-09-03-2015-1701
END:VEVENT

END:VCALENDAR
