BEGIN:VCALENDAR
VERSION:2.0
PRODID:-//ChamberMaster//Event Calendar 2.0//EN
METHOD:PUBLISH
X-PUBLISHED-TTL:P3D
REFRESH-INTERVAL:P3D
CALSCALE:GREGORIAN
BEGIN:VEVENT
DTSTART;VALUE=DATE:20141217
DTEND;VALUE=DATE:20141218
TRANSP:TRANSPARENT
X-MICROSOFT-CDO-ALLDAYEVENT:TRUE
SUMMARY:Hefez & Sons Jewelers - Holiday Open House
DESCRIPTION:Hefez and Sons is having a holiday open house on Wednesday December 17th with up to 50% off \n\n\n\n\n\nMerv Hefez\n\nHefez & Sons Jewelers\n\n106 North Main Street\n\nMansfield\, MA 02048\n\n508-261-8823
X-ALT-DESC;FMTTYPE=text/html:Hefez and Sons is having a&nbsp\;holiday open house on Wednesday December 17th with up to 50% off&nbsp\;<br />\n<br clear="all" />\n<br />\nMerv Hefez<br />\nHefez &amp\; Sons Jewelers<br />\n106 North Main Street<br />\nMansfield\, MA 02048<br />\n508-261-8823
LOCATION:Hefez & Sons Jewelers 106 North Main Street Mansfield\, MA 02048 508-261-8823
UID:e.1730.1240
SEQUENCE:3
DTSTAMP:20260420T100939Z
URL:https://www.tri-townchamber.org/events/details/hefez-sons-jewelers-holiday-open-house-12-17-2014-1240
END:VEVENT

END:VCALENDAR
