BEGIN:VCALENDAR
VERSION:2.0
PRODID:-//ChamberMaster//Event Calendar 2.0//EN
METHOD:PUBLISH
X-PUBLISHED-TTL:P3D
REFRESH-INTERVAL:P3D
CALSCALE:GREGORIAN
BEGIN:VEVENT
DTSTART:20131108T000000Z
DTEND:20131108T013000Z
X-MICROSOFT-CDO-ALLDAYEVENT:FALSE
SUMMARY:Hearing Loss and Quality of Life
DESCRIPTION:Physician experts at Brigham and Women's/Mass General Health Care Center will be presenting the following educational sessions:\n\n\n\nSpeakers: Sapideh Gilani\, MD\; Lindsay Woods\, AuD
X-ALT-DESC;FMTTYPE=text/html:<span style="color:#333333\;"><span style="font-family:verdana\,sans-serif\;"><span style="font-size:9.0pt\;">Physician experts at Brigham and Women&rsquo\;s/Mass General Health Care Center will be presenting the following educational sessions:</span></span></span><br />\n<br />\n<span style="color:#333333\;"><span style="font-family:verdana\,sans-serif\;"><span style="font-size:9.0pt\;">Speakers: Sapideh Gilani\, MD\; Lindsay Woods\, AuD</span></span></span>
LOCATION:Brigham and Women's / Mass General Health Care Center at Patriot Place Foxborough\, 3d Floor Atrium
UID:e.1730.426
SEQUENCE:3
DTSTAMP:20260421T095936Z
URL:https://www.tri-townchamber.org/events/details/hearing-loss-and-quality-of-life-11-07-2013-426
END:VEVENT

END:VCALENDAR
