BEGIN:VCALENDAR
VERSION:2.0
PRODID:-//ChamberMaster//Event Calendar 2.0//EN
METHOD:PUBLISH
X-PUBLISHED-TTL:P3D
REFRESH-INTERVAL:P3D
CALSCALE:GREGORIAN
BEGIN:VEVENT
DTSTART:20131102T120000Z
DTEND:20131102T150000Z
X-MICROSOFT-CDO-ALLDAYEVENT:FALSE
SUMMARY:Healthy Bodies * Healthy Minds 5K/10K
DESCRIPTION:USATF Certified routes\; ideal for those running their very first 5K/10K & those looking to achieve a new PR! Runners will wind their way through a scenic residential community in Foxborough on paved roads with water stops along the way. Professionally timed\, mile markers & splits\, post-race food\, beverages\, fruits and bagels in our cafeteria.\n\n \n\nAwards (5K and 10K)\n\nTop 2 Finishers Overall Male/Female 5K: Top male/female finisher in the following age groups: 12 & under\, 13-18\, 19 -29\, 30-39\, 40-49\, 50-59\, 60-69\, and 70+. 10K: Top male/female finisher in the following age groups: 12 & under\, 13-18\, 19 -29\, 30-39\, 40-49\, 50-59\, 60-69\, and 70+.   No duplicates.\n\n \n\nSchedule of Events\n\n7:15 AM   8:15 AM - Packet Pick-up & Registration\;  \n\nStart times: 10K - 9:00 AM  *  5K - 9:15 AM  \n\nAwards Ceremony to follow Pre-Packet Pick-Up TBD\n\n\n\nLike Us on Facebook\n\nFoxborough Regional Charter School\n\n \n\nSponsorship\n\nFriends of Foxborough Regional Charter School is a 501(c)3\, non-profit organization\; all gifts\, donations or sponsorships to the School are tax deductible. There are many easy and convenient ways to support our unique educational mission as one of the state's largest charter schools.\n\n \n\nBeneficiaries\n\nFunds raised through the Healthy Bodies * Healthy Minds race will support the Foxborough Regional Charter School in its mission to provide students an outstanding academic program which prepares students for college in a challenging and stimulating learning environment that instills positive ethical\, moral and civic values and prepares students to serve their communities as leaders and exemplary citizens.\n\nKnowledge is the Path to College\n\n \n\nFRCS Scholars earns 1st Place in MA Region III Science Fair\, Jr. Division 2013 graduate selected as one of two MA students to serve in the United States Senate Youth Scholarship Program (USSYSP). Middle School Mathletes compete in Math Counts Competition February 2013\; wins trophy for 'Best New School' in Metro West Chapter! Grade 8 scholar wins Gold Medal in 2013 National Spanish Exam\; highest score in bilingual category in the state!\n\nShow Your School Pride\n\n \n\nTo reflect the mission of FRCS we encourage runners to wear college/university themed logo clothing! Higher education is the key to success\, partner with FRCS to support this important message by sharing your school colors!\n\nRace is limited to 1000 runners\; register early! Long sleeve dri-tech t-shirt guaranteed to all 5K/10K participants registered by 10/11/13!
X-ALT-DESC;FMTTYPE=text/html:USATF Certified routes\; ideal for those running their very first 5K/10K &amp\; those looking to achieve a new PR! Runners will wind their way through a scenic residential community in Foxborough on paved roads with water stops along the way. Professionally timed\, mile markers &amp\; splits\, post-race food\, beverages\, fruits and bagels in our cafeteria.<br />\n&nbsp\;<br />\n<strong>Awards (5K and 10K)</strong><br />\nTop 2 Finishers Overall Male/Female 5K: Top male/female finisher in the following age groups: 12 &amp\; under\, 13-18\, 19 -29\, 30-39\, 40-49\, 50-59\, 60-69\, and 70+. 10K: Top male/female finisher in the following age groups: 12 &amp\; under\, 13-18\, 19 -29\, 30-39\, 40-49\, 50-59\, 60-69\, and 70+.&nbsp\;&nbsp\; No duplicates.<br />\n&nbsp\;<br />\n<strong>Schedule of Events</strong><br />\n7:15 AM &ndash\; 8:15 AM - Packet Pick-up &amp\; Registration\; &nbsp\;<br />\nStart times: 10K - 9:00 AM&nbsp\; *&nbsp\; 5K - 9:15 AM&nbsp\;&nbsp\;<br />\nAwards Ceremony to follow Pre-Packet Pick-Up&nbsp\;TBD<br />\n<br />\nLike Us on Facebook<br />\nFoxborough Regional Charter School<br />\n&nbsp\;<br />\n<strong>Sponsorship</strong><br />\nFriends of Foxborough Regional Charter School is a 501(c)3\, non-profit organization\; all gifts\, donations or sponsorships to the School are tax deductible. There are many easy and convenient ways to support our unique educational mission as one of the state&rsquo\;s largest charter schools.<br />\n&nbsp\;<br />\n<strong>Beneficiaries</strong><br />\nFunds raised through the Healthy Bodies * Healthy Minds race will support the Foxborough Regional Charter School in its mission to provide students an outstanding academic program which prepares students for college in a challenging and stimulating learning environment that instills positive ethical\, moral and civic values and prepares students to serve their communities as leaders and exemplary citizens.<br />\nKnowledge is the Path to College<br />\n&nbsp\;<br />\nFRCS Scholars earns 1st Place in MA Region III Science Fair\, Jr. Division 2013 graduate selected as one of two MA students to serve in the United States Senate Youth Scholarship Program (USSYSP). Middle School Mathletes compete in Math Counts Competition February 2013\; wins trophy for &#39\;Best New School&#39\; in Metro West Chapter! Grade 8 scholar wins Gold Medal in 2013 National Spanish Exam\; highest score in bilingual category in the state!<br />\nShow Your School Pride<br />\n&nbsp\;<br />\nTo reflect the mission of FRCS we encourage runners to wear college/university themed logo clothing! Higher education is the key to success\, partner with FRCS to support this important message by sharing your school colors!<br />\nRace is limited to 1000 runners\; register early! Long sleeve dri-tech t-shirt guaranteed to all 5K/10K participants registered by 10/11/13!<br />\n
LOCATION:Foxborough Regional Charter School 131 Central Street Foxborough\, Massachusetts 02035
UID:e.1730.407
SEQUENCE:3
DTSTAMP:20260421T095936Z
URL:https://www.tri-townchamber.org/events/details/healthy-bodies-healthy-minds-5k-10k-11-02-2013-407
END:VEVENT

END:VCALENDAR
