BEGIN:VCALENDAR
VERSION:2.0
PRODID:-//ChamberMaster//Event Calendar 2.0//EN
METHOD:PUBLISH
X-PUBLISHED-TTL:P3D
REFRESH-INTERVAL:P3D
CALSCALE:GREGORIAN
BEGIN:VEVENT
DTSTART:20141025T170000Z
DTEND:20141025T200000Z
X-MICROSOFT-CDO-ALLDAYEVENT:FALSE
SUMMARY:Halloween at Mansfield Crossing
DESCRIPTION:Mansfield Crossing is having their Annual Halloween event on Saturday\, October 25th from 1 PM- 4pm. This event will include trick-or-treating\, face painting & balloon artists\, interactive games at the potting shed\, & more!
X-ALT-DESC;FMTTYPE=text/html:<span style="font-size:14px\;"><span style="font-family:arial\;">Mansfield Crossing is having their Annual Halloween event on <strong>Saturday\, October 25<sup>th</sup> from 1 PM- 4pm</strong>. This event will include trick-or-treating\, face painting &amp\; balloon artists\, interactive games at the potting shed\, &amp\; more!&nbsp\;</span></span>
LOCATION:Mansfield Crossing 280 School Street Mansfield MA
UID:e.1730.1068
SEQUENCE:3
DTSTAMP:20260420T132136Z
URL:https://www.tri-townchamber.org/events/details/halloween-at-mansfield-crossing-10-25-2014-1068
END:VEVENT

END:VCALENDAR
