BEGIN:VCALENDAR
VERSION:2.0
PRODID:-//ChamberMaster//Event Calendar 2.0//EN
METHOD:PUBLISH
X-PUBLISHED-TTL:P3D
REFRESH-INTERVAL:P3D
CALSCALE:GREGORIAN
BEGIN:VEVENT
DTSTART:20141018T133000Z
DTEND:20141018T160000Z
X-MICROSOFT-CDO-ALLDAYEVENT:FALSE
SUMMARY:H.U.G.s Walk (Help Us Get Safe)
DESCRIPTION:H.U.G.S. Walk  (Help Us Get Safe)-Foxboro\n\nGet Involved in the Tri-Town Chamber's Community Relations Fall Focus: H.U.G.S. (Help Us Get Safe)-Foxboro Join us for the 8th Annual HUGS Walk!!\n\n	Saturday\, October 18th\n	Registration from 9:30 a.m.   10:00 a.m.\n	Walk begins at 10:00 a.m.\n	Walk route is family-friendly and roughly 1 mile\n\nWhere: HUGS Garden of Courage at the Foxborough Fire Station on the  Corner of Chestnut St and Payson Road\n\nThis is a 1-mile family-friendly walk route\n\n	Face Painting\n	 "Touch-a-Truck" event\n	Chance to enter to win great doorprizes!\n\n \n\n100% of proceeds benefit HUGS' educational mission of violence prevention & awareness\, confidential domestic violence support and resources\, and scholarships to support graduating FHS students entering the Human Services field.\n\n \n\nQuestions: For more information\, please call:  (508) 698-8784\n\n \n\nSome of the Door Prizes at the HUGS Walk include:\n\n\n	New England Patriots jersey signed by Vince Wilfork\n	New England Patriots football signed Julian Edelman\n	New England Revolution jersey signed by  Diego Fagundez\n	Two (2) $50 Patriot Place Gift Cards \n\nDoor prize tickets on sale throughout the Walk - Prizewinners will be drawn at the conclusion of the HUGS Walk   Join Us!
X-ALT-DESC;FMTTYPE=text/html:<strong>H.U.G.S. Walk &nbsp\;(Help Us Get Safe)-Foxboro</strong><br />\nGet Involved in the Tri-Town Chamber&rsquo\;s Community Relations Fall Focus: H.U.G.S. (Help Us Get Safe)-Foxboro&nbsp\;Join us for the 8th Annual HUGS Walk!!\n<ul>\n	<li>Saturday\, October 18th</li>\n	<li>Registration from 9:30 a.m. &ndash\; 10:00 a.m.</li>\n	<li>Walk begins at 10:00 a.m.</li>\n	<li>Walk route is family-friendly and roughly 1 mile</li>\n</ul>\nWhere: HUGS Garden of Courage at the Foxborough Fire Station on the &nbsp\;Corner of Chestnut St and Payson Road<br />\nThis is a 1-mile family-friendly walk route\n<ul>\n	<li>Face Painting</li>\n	<li>&nbsp\;&ldquo\;Touch-a-Truck&rdquo\; event</li>\n	<li>Chance to enter to win great doorprizes!</li>\n</ul>\n&nbsp\;<br />\n<strong>100% of proceeds benefit HUGS&rsquo\; educational mission of violence prevention &amp\; awareness\, confidential domestic violence support and resources\, and scholarships to support graduating FHS students entering the Human Services field.</strong><br />\n&nbsp\;<br />\nQuestions: For more information\, please call:&nbsp\; <strong>(508) 698-8784</strong><br />\n&nbsp\;<br />\n<strong>Some of the Door Prizes at the HUGS Walk include:</strong>\n\n<ul>\n	<li>New England Patriots jersey signed by Vince Wilfork</li>\n	<li>New England Patriots football signed Julian Edelman</li>\n	<li>New England Revolution jersey signed by&nbsp\; Diego Fagundez</li>\n	<li>Two (2) $50 Patriot Place Gift Cards&nbsp\;</li>\n</ul>\nDoor prize tickets on sale throughout the Walk - Prizewinners will be drawn at the conclusion of the HUGS Walk &ndash\; Join Us!
LOCATION:at the HUGS Garden of Courage / Foxborough Fire Station Corner of Chestnut St and Payson Road
UID:e.1730.1056
SEQUENCE:3
DTSTAMP:20260420T150147Z
URL:https://www.tri-townchamber.org/events/details/h-u-g-s-walk-help-us-get-safe-10-18-2014-1056
END:VEVENT

END:VCALENDAR
