BEGIN:VCALENDAR
VERSION:2.0
PRODID:-//ChamberMaster//Event Calendar 2.0//EN
METHOD:PUBLISH
X-PUBLISHED-TTL:P3D
REFRESH-INTERVAL:P3D
CALSCALE:GREGORIAN
BEGIN:VEVENT
DTSTART:20140305T124500Z
DTEND:20140305T144500Z
X-MICROSOFT-CDO-ALLDAYEVENT:FALSE
SUMMARY:Grow Your Business with Email & Social Media
DESCRIPTION:Grow Your Business with Email & Social Media\n\nBonus Session: Grow your Facebook Fan Base and Email List with a Facebook Campaign (see details about Bonus Session)\n\n \n\nAre your email and social media marketing programs creating new business for you? They should be.\n\n \n\nJoin Heather Jackson\, Regional Development Director for Constant Contact at the Tri-Town Chamber of Commerce on Wednesday\, March 5th\, 2014 to learn how to develop a marketing plan based on your unique business needs using email and social media to connect to the audience that matters to you. This event is sponsored by the Tri-Town Chamber of Commerce. In this free workshop\, small businesses and nonprofit organizations will learn easy-to-implement tactics for creating and measuring marketing campaigns without spending a lot of time or money.\n\n \n\nYou will learn how to:\n\n	Engage your audience. Marketing today is about engagement\, and without understanding these fundamentals\, your individual campaigns will not be as effective as they can be.\n	Develop a marketing plan. Based on your specific goals and objectives\, what results are you trying to reach? All good marketing plans start with an end result in mind. Discover your end result and you're on your way to creating marketing campaigns that grow your business.\n	Create marketing campaigns. You'll learn the basic types of campaigns for the business results you hope to achieve and how to create content that reaches your audience and calls them to action.\n	Discover the channels that matter. From email to your various social networks and platforms\, there a lot of ways to reach your intended audience. Learn the differences and best practices so you can choose the best channel for each campaign\, to create the greatest impact.\n	By the end of the program you will be on your way to creating a marketing plan that incorporates your specific goals and objectives leaving you with a greater understanding of how to optimize your email and social media marketing to grow your business!\n\n \n\nParticipants will leave with lots of ideas for timing their messages\, writing winning subject lines\, brainstorming offers or content to try\, & how best to approach their next marketing campaign.\n\n \n\nAgenda:\n\n \n\n7:30 - 7:45 AM - Registration\n\n7:45 - 9:15 AM - Grow Your Business with Email & Social Media and Q&A \n\n9:15 - 9:45 AM- Bonus workshop - Run a Facebook Campaign\n\n***BONUS WORKSHOP - Run a Facebook Campaign***\n\n \n\nFollowing the Grow Your Business with Email and Social Media workshop\, join the Heather Jackson\, Regional Development Director for Constant Contact in an exclusive\, free hands-on bonus workshop and learn how to create a Facebook Social Campaign. We will help you build and launch your own Facebook contest\, coupon offer\, or valuable downloadable PDF for your business page while making sure it is cohesive and personal to you and your business!\n\n \n\n(NOTE: This is an exclusive bonus workshop and is only open to the first 10 people who register below\, have signed up for a trial of Constant Contact's Social Campaign tool with LizBESocial and have a Facebook Business Page.\n\n \n\nClick this HERE to start your FREE 30 day trial of Social Campaigns\n\n \n\n**Please start to think about what you will offer your customers so that we can jump right in!**\n\n \n\nSome examples include:\n\n \n\nStorefront: Gift cards\, Basket of your stores best items\n\nRestaurant: Gift card\, Dinner for two\n\nB2B: Extended trial of your software\, free consulting session\, admission to paid webinar\, free group training session.\n\nChecklist: "Top 10 to-do's before buying your first home"\n\nCoupon: 10% off any item on the menu\n\nNot sure what to offer? Check out "Run a Successful Facebook Campaign" for more ideas!\n\n \n\nPlease bring your laptop and account login credentials for hands-on work.
X-ALT-DESC;FMTTYPE=text/html:<strong>Grow Your Business with Email &amp\; Social Media</strong><br />\n<em>Bonus Session: Grow your Facebook Fan Base and Email List with a Facebook Campaign (see details about Bonus Session)</em><br />\n&nbsp\;<br />\nAre your email and social media marketing programs creating new business for you? They should be.<br />\n&nbsp\;<br />\nJoin Heather Jackson\, Regional Development Director for Constant Contact at the Tri-Town Chamber of Commerce on Wednesday\, March 5th\, 2014 to learn how to develop a marketing plan based on your unique business needs using email and social media to connect to the audience that matters to you. This event is sponsored by the Tri-Town Chamber of Commerce. In this free workshop\, small businesses and nonprofit organizations will learn easy-to-implement tactics for creating and measuring marketing campaigns without spending a lot of time or money.<br />\n&nbsp\;<br />\nYou will learn how to:\n<ul>\n	<li>Engage your audience. Marketing today is about engagement\, and without understanding these fundamentals\, your individual campaigns will not be as effective as they can be.</li>\n	<li>Develop a marketing plan. Based on your specific goals and objectives\, what results are you trying to reach? All good marketing plans start with an end result in mind. Discover your end result and you&rsquo\;re on your way to creating marketing campaigns that grow your business.</li>\n	<li>Create marketing campaigns. You&rsquo\;ll learn the basic types of campaigns for the business results you hope to achieve and how to create content that reaches your audience and calls them to action.</li>\n	<li>Discover the channels that matter. From email to your various social networks and platforms\, there a lot of ways to reach your intended audience. Learn the differences and best practices so you can choose the best channel for each campaign\, to create the greatest impact.</li>\n	<li>By the end of the program you will be on your way to creating a marketing plan that incorporates your specific goals and objectives leaving you with a greater understanding of how to optimize your email and social media marketing to grow your business!</li>\n</ul>\n&nbsp\;<br />\nParticipants will leave with lots of ideas for timing their messages\, writing winning subject lines\, brainstorming offers or content to try\, &amp\; how best to approach their next marketing campaign.<br />\n&nbsp\;<br />\nAgenda:<br />\n&nbsp\;<br />\n7:30 - 7:45 AM - Registration<br />\n7:45 - 9:15 AM - Grow Your Business with Email &amp\; Social Media and Q&amp\;A&nbsp\;<br />\n9:15 - 9:45 AM- Bonus workshop - Run a Facebook Campaign<br />\n***BONUS WORKSHOP - Run a Facebook Campaign***<br />\n&nbsp\;<br />\nFollowing the Grow Your Business with Email and Social Media workshop\, join the Heather Jackson\, Regional Development Director for Constant Contact in an exclusive\, free hands-on bonus workshop and learn how to create a Facebook Social Campaign. We will help you build and launch your own Facebook contest\, coupon offer\, or valuable downloadable PDF for your business page while making sure it is cohesive and personal to you and your business!<br />\n&nbsp\;<br />\n(NOTE: This is an exclusive bonus workshop and is only open to the first 10 people who register below\, have signed up for a trial of Constant Contact&#39\;s Social Campaign tool with LizBESocial and have a Facebook Business Page.<br />\n&nbsp\;<br />\nClick this <a href="http://www.constantcontact.com/social-campaigns?pn=lizbesocial">HERE</a> to start your FREE 30 day trial of Social Campaigns<br />\n&nbsp\;<br />\n**Please start to think about what you will offer your customers so that we can jump right in!**<br />\n&nbsp\;<br />\nSome examples include:<br />\n&nbsp\;<br />\nStorefront: Gift cards\, Basket of your stores best items<br />\nRestaurant: Gift card\, Dinner for two<br />\nB2B: Extended trial of your software\, free consulting session\, admission to paid webinar\, free group training session.<br />\nChecklist: &quot\;Top 10 to-do&rsquo\;s before buying your first home&quot\;<br />\nCoupon: 10% off any item on the menu<br />\nNot sure what to offer? Check out &quot\;Run a Successful Facebook Campaign&quot\; for more ideas!<br />\n&nbsp\;<br />\nPlease bring your laptop and account login credentials for hands-on work.<br />\n&nbsp\;<br />\n&nbsp\;
LOCATION:at the Tri-Town Chamber of Commerce 280 School Street in Mansfield class held in the Barrows Insurance Agency\, Inc Conference Room
UID:e.1730.751
SEQUENCE:3
DTSTAMP:20260421T015219Z
URL:https://www.tri-townchamber.org/events/details/grow-your-business-with-email-social-media-03-05-2014-751
END:VEVENT

END:VCALENDAR
