BEGIN:VCALENDAR
VERSION:2.0
PRODID:-//ChamberMaster//Event Calendar 2.0//EN
METHOD:PUBLISH
X-PUBLISHED-TTL:P3D
REFRESH-INTERVAL:P3D
CALSCALE:GREGORIAN
BEGIN:VEVENT
DTSTART:20150502T130000Z
DTEND:20150502T150000Z
X-MICROSOFT-CDO-ALLDAYEVENT:FALSE
SUMMARY:Great American Clean-Up of Mansfield
DESCRIPTION:The 8th annual Great American Cleanup of Mansfield is happening on May 2. So far\, we have about 250 volunteers signed up. But we're always looking for more help\, so if you're interested in helping to make downtown Mansfield a more inviting place for visitors\, please register by April 23.\n\nIf you can't participate on May 2\, please consider sweeping up the sidewalk and curb area in front of your business. After all\, curb appeal attracts customers!\n\n\n\nThey are also seeking financial donations to offset the cost of the cleanup\, as well as other programs that benefit downtown Mansfield\, including our annual flower barrel program. Donors who pledge $250 or more will have their business's name listed on our 400 volunteer tee shirts\, as well as on our website and social media channels.\n\nThe deadline to get your name listed on tee shirts is April 9\, so please email us if you plan to donate. In the meantime\, thanks go to Barrows Insurance\, Crugnale Properties\, Monarch Realty\, Attractions Salon\, Toyota\, Triton Technologies\, HR Knowledge\, Sake\, North Easton Savings Bank\, and Hanna Paper Recycling for their generous support.
X-ALT-DESC;FMTTYPE=text/html:The 8th annual <strong>Great American Cleanup of Mansfield</strong> is happening on May 2. So far\, we have about 250 volunteers signed up. But we&#39\;re always looking for more help\, so if you&#39\;re interested in helping to make downtown Mansfield a more inviting place for visitors\, please register by April 23.<br />\nIf you can&#39\;t participate on May 2\, please consider sweeping up the sidewalk and curb area in front of your business. After&nbsp\;all\, curb appeal attracts customers!<br />\n<br />\nThey are also seeking financial donations to offset the cost of the cleanup\, as well as other programs that benefit downtown Mansfield\, including our annual flower barrel program. Donors who pledge $250 or more will have their business&#39\;s name listed on our 400 volunteer tee shirts\, as well as on our website and social media channels.<br />\nThe deadline to get your name listed on tee shirts is April 9\, so please email us if you plan to donate. In the meantime\, thanks go to Barrows Insurance\, Crugnale Properties\, Monarch Realty\, Attractions Salon\, Toyota\, Triton Technologies\, HR Knowledge\, Sake\, North Easton Savings Bank\, and Hanna Paper Recycling for their generous support.
LOCATION:Mansfield Ma
UID:e.1730.1586
SEQUENCE:3
DTSTAMP:20260420T015844Z
URL:https://www.tri-townchamber.org/events/details/great-american-clean-up-of-mansfield-05-02-2015-1586
END:VEVENT

END:VCALENDAR
