BEGIN:VCALENDAR
VERSION:2.0
PRODID:-//ChamberMaster//Event Calendar 2.0//EN
METHOD:PUBLISH
X-PUBLISHED-TTL:P3D
REFRESH-INTERVAL:P3D
CALSCALE:GREGORIAN
BEGIN:VEVENT
DTSTART;VALUE=DATE:20140517
DTEND;VALUE=DATE:20140518
TRANSP:TRANSPARENT
X-MICROSOFT-CDO-ALLDAYEVENT:TRUE
SUMMARY:GRAND OPENING at Old Station Outdoor & Landscape Supply
DESCRIPTION:Please join us here at\n\nOld Station Outdoor & Landscape Supply\n\n142 East Main Street\n\nNorton\, MA 02766\n\nFor our GRAND OPENING!\n\nSaturday\, May 17th 2014\n\n7:00 am   3:00 pm\n\nFun and food for whole family!!
X-ALT-DESC;FMTTYPE=text/html:&nbsp\;Please join us here at<br />\nOld Station Outdoor &amp\; Landscape Supply<br />\n142 East Main Street<br />\nNorton\, MA 02766<br />\nFor our GRAND OPENING!<br />\nSaturday\, May 17<sup>th</sup> 2014<br />\n7:00 am &ndash\; 3:00 pm<br />\nFun and food for whole family!!
LOCATION:142 East Main Street Norton MA 02766
UID:e.1730.1004
SEQUENCE:3
DTSTAMP:20260421T000727Z
URL:https://www.tri-townchamber.org/events/details/grand-opening-at-old-station-outdoor-landscape-supply-05-17-2014-1004
END:VEVENT

END:VCALENDAR
