BEGIN:VCALENDAR
VERSION:2.0
PRODID:-//ChamberMaster//Event Calendar 2.0//EN
METHOD:PUBLISH
X-PUBLISHED-TTL:P3D
REFRESH-INTERVAL:P3D
CALSCALE:GREGORIAN
BEGIN:VEVENT
DTSTART:20151120T233000Z
DTEND:20151121T020000Z
X-MICROSOFT-CDO-ALLDAYEVENT:FALSE
SUMMARY:Gourmet Guys
DESCRIPTION:Join New Hope\, family and friends for an evening of delicious foods cooked by our local male supporters.  New Hope's Gourmet Guys\, in its 26th year\, is an initiative by local men to raise dollars to support victims of violence and to have fun cooking and serving their special dishes.  The event is at the Attleboro Elks Lodge\, 887 South Main Street\, (Route 152) in Attleboro.    Doors open at 6:30 and dinner is served at 7:00. You can purchase tickets on-line at  http://www.new-hope.org/gourmet-guys/ or by calling New Hope's office at 508-226-4015.
X-ALT-DESC;FMTTYPE=text/html:Join New Hope\, family and friends for an evening of delicious foods cooked by our local male supporters. &nbsp\;New Hope&#39\;s Gourmet Guys\, in its 26th year\, is an initiative by local men to raise dollars to support victims of violence and to have fun cooking and serving their special dishes. &nbsp\;The event is at the Attleboro Elks Lodge\, 887 South Main Street\, (Route 152) in Attleboro. &nbsp\; &nbsp\;Doors open at 6:30 and dinner is served at 7:00. You can purchase tickets on-line at &nbsp\;http://www.new-hope.org/gourmet-guys/ or by calling New Hope&#39\;s office at 508-226-4015. &nbsp\;
LOCATION:Attleboro Elks Lodge\, 887 South Main Street\, Attleboro\, MA
UID:e.1730.1844
SEQUENCE:3
DTSTAMP:20260419T154533Z
URL:https://www.tri-townchamber.org/events/details/gourmet-guys-11-20-2015-1844
END:VEVENT

END:VCALENDAR
