BEGIN:VCALENDAR
VERSION:2.0
PRODID:-//ChamberMaster//Event Calendar 2.0//EN
METHOD:PUBLISH
X-PUBLISHED-TTL:P3D
REFRESH-INTERVAL:P3D
CALSCALE:GREGORIAN
BEGIN:VEVENT
DTSTART:20150913T170000Z
DTEND:20150914T000000Z
X-MICROSOFT-CDO-ALLDAYEVENT:FALSE
SUMMARY:Golf "Fore" Nicky
DESCRIPTION:Would you like to help help raise money in support of the Cleary family of Mansfield\, whom is also an employee of one of our members - \n\nThe Cleary's  young son was recently diagnosed with Neuroblastoma Cancer\, a cancer which effects over 700 children per year under the age of 15. Coworkers at HEI have organized a golf tournament to help defray some of the costs. \n\n\n\nSign up to Golf $120 (Raffles\, Longest Drive\, Closest to the Pin and Dinner)\n\n\n\nDon't Golf but would like to help?\n\n\n	Donate a Raffle Item \n	Sponsor a Hole\n	\n		$100 Sponsor a Hole (sign 12x18)\n\n		$200 Sponsor a Hole (sign 24x36)\n	\n	\n	Make a Donation\n\n\n\nyou will be provided with the tax ID#\, so that you can feel confident making a tax deductible donation.
X-ALT-DESC;FMTTYPE=text/html:<div style="background-image: initial\; background-attachment: initial\; background-size: initial\; background-origin: initial\; background-clip: initial\; background-position: initial\; background-repeat: initial\;"><span style="font-family:arial\;">Would you like to help&nbsp\;help raise money in support of the Cleary family of Mansfield\, whom is also an employee of one of our members -&nbsp\;<br />\nThe Cleary&#39\;s&nbsp\; young son was recently diagnosed with Neuroblastoma&nbsp\;Cancer\, a cancer which effects over 700 children per year under the age of 15.&nbsp\;</span><span style="font-size: 10.5pt\; font-family: Helvetica\, sans-serif\; background-image: initial\; background-attachment: initial\; background-size: initial\; background-origin: initial\; background-clip: initial\; background-position: initial\; background-repeat: initial\;">Coworkers at HEI have organized a golf tournament to help defray some of the costs.&nbsp\;</span><br />\n<br />\n<span style="font-size:14px\;"><span style="font-family:arial\;">Sign up to Golf $120 (Raffles\, Longest Drive\, Closest to the Pin and Dinner)<br />\n<br />\nDon&#39\;t&nbsp\;Golf but would like to help?</span></span></div>\n\n<ul>\n	<li style="background-image: initial\; background-attachment: initial\; background-size: initial\; background-origin: initial\; background-clip: initial\; background-position: initial\; background-repeat: initial\;"><span style="font-size:14px\;"><span style="font-family:arial\;">Donate a Raffle Item&nbsp\;</span></span></li>\n	<li style="background-image: initial\; background-attachment: initial\; background-size: initial\; background-origin: initial\; background-clip: initial\; background-position: initial\; background-repeat: initial\;"><span style="font-size:14px\;"><span style="font-family:arial\;">Sponsor a Hole</span></span>\n	<ul>\n		<li style="background-image: initial\; background-attachment: initial\; background-size: initial\; background-origin: initial\; background-clip: initial\; background-position: initial\; background-repeat: initial\;"><span style="line-height: 23.1111106872559px\;">$100 Sponsor a Hole (sign&nbsp\;</span>12x18<span style="line-height: 23.1111106872559px\;">)</span><br style="line-height: 23.1111106872559px\;" />\n		<span style="line-height: 23.1111106872559px\;">$200 Sponsor a&nbsp\;</span><span style="line-height: 23.1111106872559px\;">Hole (sign&nbsp\;</span>24x36<span style="line-height: 23.1111106872559px\;">)</span></li>\n	</ul>\n	</li>\n	<li style="background-image: initial\; background-attachment: initial\; background-size: initial\; background-origin: initial\; background-clip: initial\; background-position: initial\; background-repeat: initial\;"><span style="font-size:14px\;"><span style="font-family:arial\;"><span style="line-height: 1.6\;">Make a Donation</span></span></span></li>\n</ul>\n<br />\n<span style="font-size:14px\;"><span style="font-family:arial\;">you will be provided with the&nbsp\;<span style="background-image: initial\; background-attachment: initial\; background-size: initial\; background-origin: initial\; background-clip: initial\; background-position: initial\; background-repeat: initial\;">tax ID#\, so that you can feel confident making a tax deductible donation.</span></span></span>
LOCATION:Riverbend Country Club 250 E Center Street West Bridgewater
UID:e.1730.1693
SEQUENCE:3
DTSTAMP:20260419T185828Z
URL:https://www.tri-townchamber.org/events/details/golf-fore-nicky-09-13-2015-1693
END:VEVENT

END:VCALENDAR
