BEGIN:VCALENDAR
VERSION:2.0
PRODID:-//ChamberMaster//Event Calendar 2.0//EN
METHOD:PUBLISH
X-PUBLISHED-TTL:P3D
REFRESH-INTERVAL:P3D
CALSCALE:GREGORIAN
BEGIN:VEVENT
DTSTART:20140814T210000Z
DTEND:20140814T230000Z
X-MICROSOFT-CDO-ALLDAYEVENT:FALSE
SUMMARY:Gift of Glamour-South of the Border Mixer & Silent Auction
DESCRIPTION:To help fund the Norton Council on Aging's mission to assist and serve our area's seniors\, we're hosting a silent benefit auction and welcome artisan or new jewelry donations to place up for bid. Your support is greatly appreciated. Donations accepted through Tue\, Aug.12
X-ALT-DESC;FMTTYPE=text/html:To help fund the Norton Council on Aging&#39\;s mission to assist and serve our area&#39\;s seniors\, we&#39\;re hosting a silent benefit auction and welcome artisan or new jewelry donations to place up for bid. Your support is greatly appreciated. Donations accepted through Tue\, Aug.12
LOCATION:Epoch Assisted Living of Norton 190 Mansfield Avenue\, Norton\, MA 02766
UID:e.1730.1045
SEQUENCE:3
DTSTAMP:20260420T165327Z
URL:https://www.tri-townchamber.org/events/details/gift-of-glamour-south-of-the-border-mixer-silent-auction-08-14-2014-1045
END:VEVENT

END:VCALENDAR
