BEGIN:VCALENDAR
VERSION:2.0
PRODID:-//ChamberMaster//Event Calendar 2.0//EN
METHOD:PUBLISH
X-PUBLISHED-TTL:P3D
REFRESH-INTERVAL:P3D
CALSCALE:GREGORIAN
BEGIN:VEVENT
DTSTART:20150426T133000Z
DTEND:20150426T183000Z
X-MICROSOFT-CDO-ALLDAYEVENT:FALSE
SUMMARY:Get Your Golf On - it's "Range Day" at Barrie Bruce Golf Schools!
DESCRIPTION:It's a 'GYGO' Open Range Day!! Always wanted to learn more about golf\, or just take some lessons to improve your game?\n\nGet Your Game On at Barrie Bruce Golf Schools at the range at Wentworth Hills Country Club\, 27 Bow Street\, Plainville\, MA\n\n\n\nThe 2015 Golf School starts with this Free and Family-Friendly day outdoors on the Practice Range.\n\nPGA Teaching Professional Barrie Bruce and his staff will be giving free 5 minute 'lessons/tuneups'.\n\nCome and learn about Golf programs for Junior and Adult golfers!!\n\nYou can also Register for scheduled Spring and Summer class programs\, and learn more about Private Lessons and Specialty Programs available for you!\n\n\n	Door prize drawings!
X-ALT-DESC;FMTTYPE=text/html:<div><span style="font-size:14px">It&rsquo\;s a &lsquo\;<strong>GYGO&rsquo\; Open Range Day</strong>!! Always wanted to learn more about golf\, or just take some lessons to improve your game?<br />\nGet Your Game On at Barrie Bruce Golf Schools at the range at&nbsp\;Wentworth Hills Country Club\, 27 Bow Street\, Plainville\, MA<br />\n<br />\nThe 2015 Golf School starts with this Free and Family-Friendly day outdoors on the Practice Range.<br />\nPGA Teaching Professional Barrie Bruce</span>&nbsp\;<span style="font-size:14px">and his staff will be giving free 5 minute &#39\;lessons/tuneups&#39\;.<br />\nCome and learn about Golf programs for Junior and Adult golfers!!<br />\nYou can also Register for scheduled Spring and Summer class programs\, and learn more about Private Lessons and Specialty Programs available for you!</span>\n\n<ul>\n	<li><span style="font-size:14px">Door prize drawings!</span></li>\n</ul>\n&nbsp\;\n\n<div>&nbsp\;</div>\n</div>\n
LOCATION:Barrie Bruce Golf Schools\, at the Practice Range at Wentworth Hills Country Club
UID:e.1730.1646
SEQUENCE:3
DTSTAMP:20260420T032533Z
URL:https://www.tri-townchamber.org/events/details/get-your-golf-on-it-s-range-day-at-barrie-bruce-golf-schools-04-26-2015-1646
END:VEVENT

END:VCALENDAR
