BEGIN:VCALENDAR
VERSION:2.0
PRODID:-//ChamberMaster//Event Calendar 2.0//EN
METHOD:PUBLISH
X-PUBLISHED-TTL:P3D
REFRESH-INTERVAL:P3D
CALSCALE:GREGORIAN
BEGIN:VEVENT
DTSTART:20130918T213000Z
DTEND:20130918T233000Z
X-MICROSOFT-CDO-ALLDAYEVENT:FALSE
SUMMARY:Get Ready for EXPO ~ Seminar & Networking
DESCRIPTION:Great Opportunity for you to gain pointers on your Expo experience as well as Network with other Mega Expo exhibitors. This is a joint event with Tri-Town\, Neponset and Milford Area Chamber of Commerce.
X-ALT-DESC;FMTTYPE=text/html:Great Opportunity for you to gain pointers on your Expo experience as well as Network with other Mega Expo exhibitors. This is a joint event with Tri-Town\, Neponset and Milford Area Chamber of Commerce.
LOCATION:At the Tri-Town Chamber of Commerce in the Deutsche Bank Championship Conference Room. The Chamber is located within Mansfield Crossing shopping Center\, our building is back behind Kohls Department Store.
UID:e.1730.18
SEQUENCE:3
DTSTAMP:20260421T113448Z
URL:https://www.tri-townchamber.org/events/details/get-ready-for-expo-seminar-networking-09-18-2013-18
END:VEVENT

END:VCALENDAR
