BEGIN:VCALENDAR
VERSION:2.0
PRODID:-//ChamberMaster//Event Calendar 2.0//EN
METHOD:PUBLISH
X-PUBLISHED-TTL:P3D
REFRESH-INTERVAL:P3D
CALSCALE:GREGORIAN
BEGIN:VEVENT
DTSTART:20141015T230000Z
DTEND:20141016T003000Z
X-MICROSOFT-CDO-ALLDAYEVENT:FALSE
SUMMARY:Gastric Health Across the Generations
DESCRIPTION:Join Brigham and Women's Gastroenterologist Jonathan Levine\, MD and Mass General Hospital for Children Pediatric Gastroenterologist Christopher Moran\, MD as they speak about gastric health at any age and stage. This health class is free and open to all - pre-registration is required to ensure adequate seating. Please call (866) 378-9164 or email us at eventsweb@partners.org to register.
X-ALT-DESC;FMTTYPE=text/html:Join Brigham and Women&#39\;s Gastroenterologist Jonathan Levine\, MD and Mass General Hospital for Children Pediatric Gastroenterologist Christopher Moran\, MD as they speak about gastric health at any age and stage. This health class is free and open to all - pre-registration is required to ensure adequate seating. Please call (866) 378-9164 or email us at <a href="mailto:eventsweb@partners.org">eventsweb@partners.org</a>&nbsp\;to register.
LOCATION:Third Floor Atrium Brigham and Women's/Mass General Health Care Center 20 Patriot Place\, Foxborough MA
UID:e.1730.1061
SEQUENCE:3
DTSTAMP:20260420T132228Z
URL:https://www.tri-townchamber.org/events/details/gastric-health-across-the-generations-10-15-2014-1061
END:VEVENT

END:VCALENDAR
