BEGIN:VCALENDAR
VERSION:2.0
PRODID:-//ChamberMaster//Event Calendar 2.0//EN
METHOD:PUBLISH
X-PUBLISHED-TTL:P3D
REFRESH-INTERVAL:P3D
CALSCALE:GREGORIAN
BEGIN:VEVENT
DTSTART:20141004T120000Z
DTEND:20141004T170000Z
X-MICROSOFT-CDO-ALLDAYEVENT:FALSE
SUMMARY:FREE SHRED DAY!
DESCRIPTION:For more information please contact:\n\nMaria Reyes or Randy Miller\n\n800-783-6766 ext. 111\n\nmreyes@millerrecycling.com\n\nLIMIT 10 BOXES
X-ALT-DESC;FMTTYPE=text/html:For more information please contact:<br />\nMaria Reyes or Randy Miller<br />\n800-783-6766 ext. 111<br />\nmreyes@millerrecycling.com<br />\nLIMIT 10 BOXES
LOCATION:Northeast Data Destruction 12 High Street Plainville\, MA 02762 Please Google address (We are in the same building as Northland-Willette Hydraulics) http://bit.ly/1Dkncwo
UID:e.1730.1066
SEQUENCE:3
DTSTAMP:20260420T131840Z
URL:https://www.tri-townchamber.org/events/details/free-shred-day-10-04-2014-1066
END:VEVENT

END:VCALENDAR
