BEGIN:VCALENDAR
VERSION:2.0
PRODID:-//ChamberMaster//Event Calendar 2.0//EN
METHOD:PUBLISH
X-PUBLISHED-TTL:P3D
REFRESH-INTERVAL:P3D
CALSCALE:GREGORIAN
BEGIN:VEVENT
DTSTART:20150818T130000Z
DTEND:20150818T143000Z
X-MICROSOFT-CDO-ALLDAYEVENT:FALSE
SUMMARY:Free Marketing Exposure For Your Business
DESCRIPTION:Take advantage of the Free exposure you receive as a Member...\n\nDid you know the Chamber helps members like you market their business every day? \n\nWe average over 1\,000 hits per day on the Tri-Town Chamber website's online business directory.  These are people looking for businesses like you! \n\nJoin us and learn how you can maximize your exposure on the Chamber Website and let it drive traffic to your door. This hands on session will teach you how to add: \n\n\n	Brief 200 Word Description on your Business\n	Hours of Operation\n	Directions / Location Information\n	Eight Key Words (these help your business to be found when someone does a search.)\n	Member to Member Deals\n	Job Postings       \n	Add Hot Deals\n	Add Events \n\n We're wireless so please bring your laptop or tablet so we can help you.  From Website to Relationship Building Tips\, this Session is for you
X-ALT-DESC;FMTTYPE=text/html:<span style="color:#696969\;"><span style="font-size:14px\;"><strong><em>Take advantage of the Free exposure you receive as a Member...</em><br />\nDid you know the Chamber helps members like you market their business every day?</strong>&nbsp\;<br />\nWe average over <strong>1\,000</strong> hits per day on the Tri-Town Chamber website&rsquo\;s online business directory.&nbsp\; These are people looking for businesses like you!&nbsp\;<br />\nJoin us and learn how you can maximize your exposure on the Chamber Website and let it drive traffic to your door. This hands on session will teach you how to add: </span></span>\n\n<ul>\n	<li><span style="color: rgb(105\, 105\, 105)\;"><span style="font-size: 14px\;">Brief 200 Word Description on your Business</span></span></li>\n	<li><span style="color:#696969\;"><span style="font-size:14px\;">Hours of Operation</span></span></li>\n	<li><span style="color:#696969\;"><span style="font-size:14px\;">Directions / Location Information</span></span></li>\n	<li><span style="color:#696969\;"><span style="font-size:14px\;">Eight Key Words <em>(these help your business to be found when someone does a search.)</em></span></span></li>\n	<li><span style="color:#696969\;"><span style="font-size:14px\;">Member to Member Deals</span></span></li>\n	<li><span style="color:#696969\;"><span style="font-size:14px\;">Job Postings&nbsp\;&nbsp\;&nbsp\;&nbsp\;&nbsp\;&nbsp\; </span></span></li>\n	<li><span style="color:#696969\;"><span style="font-size:14px\;">Add Hot Deals</span></span></li>\n	<li><span style="color:#696969\;"><span style="font-size:14px\;">Add Events<span style="line-height: 1.6\;">&nbsp\;</span></span></span></li>\n</ul>\n<span style="color:#696969\;"> <span style="font-size:14px\;"><strong>We&rsquo\;re wireless so please bring your laptop or tablet so we can help you. &nbsp\;From Website to Relationship Building Tips\, this Session is for you</strong></span></span><br />\n<br />\n&nbsp\;
LOCATION:at the Chamber Offices in the Davis Financial Conference Room
UID:e.1730.1677
SEQUENCE:3
DTSTAMP:20260419T205828Z
URL:https://www.tri-townchamber.org/events/details/free-marketing-exposure-for-your-business-08-18-2015-1677
END:VEVENT

END:VCALENDAR
