BEGIN:VCALENDAR
VERSION:2.0
PRODID:-//ChamberMaster//Event Calendar 2.0//EN
METHOD:PUBLISH
X-PUBLISHED-TTL:P3D
REFRESH-INTERVAL:P3D
CALSCALE:GREGORIAN
BEGIN:VEVENT
DTSTART:20141015T180000Z
DTEND:20141015T210000Z
X-MICROSOFT-CDO-ALLDAYEVENT:FALSE
SUMMARY:Free Local internet marketing seminar
DESCRIPTION:Free local internet marketing seminar with Google?s Ben Tyson and hibu's Ken Boggis! - Free analysis of your website with tips and options to make it better - Hear from Google how you can make search engine's work for your business - How to use Facebook and the internet?s most trafficked sites to attract your LOCAL clientele
X-ALT-DESC;FMTTYPE=text/html:Free local internet marketing seminar with Google?s Ben Tyson and hibu&#39\;s Ken Boggis! - Free analysis of your website with tips and options to make it better - Hear from Google how you can make search engine&#39\;s work for your business - How to use Facebook and the internet?s most trafficked sites to attract your LOCAL clientele
LOCATION:Renaissance Hotel at 28 Patriot Place\, Foxboro MA
UID:e.1730.1071
SEQUENCE:3
DTSTAMP:20260420T150410Z
URL:https://www.tri-townchamber.org/events/details/free-local-internet-marketing-seminar-10-15-2014-1071
END:VEVENT

END:VCALENDAR
