BEGIN:VCALENDAR
VERSION:2.0
PRODID:-//ChamberMaster//Event Calendar 2.0//EN
METHOD:PUBLISH
X-PUBLISHED-TTL:P3D
REFRESH-INTERVAL:P3D
CALSCALE:GREGORIAN
BEGIN:VEVENT
DTSTART:20140221T180000Z
DTEND:20140221T213000Z
X-MICROSOFT-CDO-ALLDAYEVENT:FALSE
SUMMARY:Free Legal Clinic
DESCRIPTION:The Massachusetts Small Business Development Center Network (MSBDC) is very pleased to announce that the prestigious law firm of Partridge Snow & Hahn LLP has generously offered to hold free legal clinics for small businesses in our office and outreach sites.  The sixth clinic will be held on Friday\, February 21\, 2014 at the Tri-Town Chamber of Commerce\, 280 School Street\, Mansfield\, MA.  You will be able to schedule a confidential 30 minute meeting with Chris Cassara\, a partner at Partridge Snow & Hahn\, between 1:00 and 4:30 p.m. to discuss general legal questions such as corporate structure\, leases\, contracts\, insurance\, employment\, franchising\, etc. Please contact Alison Moriarty at the MSBDC office at 508-673-9783 x10 to reserve your time slot.  Any business participating in the clinic will be expected to sign a general waiver regarding conflicts\, etc.\n\n\n\n \n\nThe MSBDC (www.msbdc.org/semass) provides free and confidential business advice to existing or prospective small business people. We also offer training seminars on a variety of topics\, including starting a business\, financial planning\, government procurement\, marketing\, social media\, and international trade assistance.\n\n \n\nPartridge Snow & Hahn LLP (www.psh.com) is a full service business law and litigation firm with offices in Providence\, RI New Bedford\, MA and Westborough\, MA.
X-ALT-DESC;FMTTYPE=text/html:<span style="font-size:12px\;"><span style="font-family:arial\;">&nbsp\;The Massachusetts Small Business Development Center Network (MSBDC) is very pleased to announce that the prestigious law firm of Partridge Snow &amp\; Hahn LLP has generously offered to hold free legal clinics for small businesses in our office and outreach sites.&nbsp\; <strong>The sixth clinic will be held on Friday\, February 21\, 2014 at the Tri-Town Chamber of Commerce\, 280 School Street\, Mansfield\, MA.</strong>&nbsp\; You will be able to schedule a confidential 30 minute meeting with Chris Cassara\, a partner at Partridge Snow &amp\; Hahn\, between 1:00 and 4:30 p.m. to discuss general legal questions such as corporate structure\, leases\, contracts\, insurance\, employment\, franchising\, etc. Please contact Alison Moriarty at the MSBDC office at 508-673-9783 x10 to reserve your time slot.&nbsp\; Any business participating in the clinic will be expected to sign a general waiver regarding conflicts\, etc.<br />\n<br />\n&nbsp\;<br />\nThe MSBDC (<a href="http://www.msbdc.org/semass">www.msbdc.org/semass</a>) provides free and confidential business advice to existing or prospective small business people. We also offer training seminars on a variety of topics\, including starting a business\, financial planning\, government procurement\, marketing\, social media\, and international trade assistance.<br />\n&nbsp\;<br />\nPartridge Snow &amp\; Hahn LLP (<a href="http://www.psh.com/">www.psh.com</a>) is a full service business law and litigation firm with offices in Providence\, RI New Bedford\, MA and Westborough\, MA.</span></span><br />\n
LOCATION:at the Tri-Town Chamber of Commerce
UID:e.1730.734
SEQUENCE:3
DTSTAMP:20260421T034913Z
URL:https://www.tri-townchamber.org/events/details/free-legal-clinic-02-21-2014-734
END:VEVENT

END:VCALENDAR
