BEGIN:VCALENDAR
VERSION:2.0
PRODID:-//ChamberMaster//Event Calendar 2.0//EN
METHOD:PUBLISH
X-PUBLISHED-TTL:P3D
REFRESH-INTERVAL:P3D
CALSCALE:GREGORIAN
BEGIN:VEVENT
DTSTART:20150627T140000Z
DTEND:20150627T190000Z
X-MICROSOFT-CDO-ALLDAYEVENT:FALSE
SUMMARY:Free Electronics Recycle Event at Alpha Computer Training
DESCRIPTION:Alpha Computer Training would like to invite you to come by with your old electronics to have them recycled the proper way.  Recycling your electronics helps ensure many valuable materials like aluminum\, plastic\, copper and gold do not go to waste. Just as importantly\, it is also providing the benefit of keeping some less desirable materials found in computers out of our natural environment.  \n\n\n\nEnter to win a free Electronics Basket!
X-ALT-DESC;FMTTYPE=text/html:Alpha Computer Training would like to invite you to come by with your old electronics to have them recycled the proper way. &nbsp\;Recycling your electronics helps ensure many valuable materials like aluminum\, plastic\, copper and gold do not go to waste. Just as importantly\, it is also providing the benefit of keeping some less desirable materials found in computers out of our natural environment. &nbsp\;<br />\n<br />\nEnter to win a free Electronics Basket!
LOCATION:Alpha Computer Training parking lot 61 East Main Street Norton\, MA 02766 Across from the Norton Library
UID:e.1730.1675
SEQUENCE:3
DTSTAMP:20260420T000424Z
URL:https://www.tri-townchamber.org/events/details/free-electronics-recycle-event-at-alpha-computer-training-06-27-2015-1675
END:VEVENT

END:VCALENDAR
