BEGIN:VCALENDAR
VERSION:2.0
PRODID:-//ChamberMaster//Event Calendar 2.0//EN
METHOD:PUBLISH
X-PUBLISHED-TTL:P3D
REFRESH-INTERVAL:P3D
CALSCALE:GREGORIAN
BEGIN:VEVENT
DTSTART:20131019T120000Z
DTEND:20131019T180000Z
X-MICROSOFT-CDO-ALLDAYEVENT:FALSE
SUMMARY:FREE! E-Waste Event! at Miller Recycling Corporation
DESCRIPTION:FREE! E-Waste Event!\n\n	Hosted by:\n\n	Miller Recycling Corporation\n\n	\n\n	We will be accepting all electronic waste (monitors\, TV's\, computers\, phones\, printers\, gaming systems and much more) at no charge! No limits\, one item to trailer loads. Everyone is welcomed.\n\n	When: October 19\, 2013\n\n	Where: 73 Plymouth Street Mansfield\, MA 02048\n\n	Time: 8:00a.m. - 2:00p.m.\n\n	For more information please call or email:\n\n	800-783-6766 Ext. 111\n\n	info@millerrecycling.com\n\n	Or visit our website:\n\n	www.MillerRecycling.com
X-ALT-DESC;FMTTYPE=text/html:<p align="LEFT">\n	<font face="ATNewsNumberTwo" size="5"><font face="ATNewsNumberTwo" size="5">FREE! E-Waste Event!</font></font></p>\n<p align="LEFT">\n	<b><font face="NewsGothicMT-Bold" size="2"><font face="NewsGothicMT-Bold" size="2">Hosted by:</font></font></b></p>\n<p align="LEFT">\n	<font face="ATNewsNumberTwo" size="4"><font face="ATNewsNumberTwo" size="4">Miller Recycling Corporation<br />\n	<br />\n	<span style="font-size: 14px\;"><span style="font-family: times new roman\;">We will be accepting all electronic waste (monitors\, TV&#39\;s\, computers\, phones\, printers\, gaming systems and much more) at no charge! No limits\, one item to trailer loads. Everyone is welcomed.</span></span></font></font></p>\n<p align="LEFT">\n	<span style="font-size: 14px\;"><span style="font-family: times new roman\;"><b>When: </b>October 19\, 2013</span></span></p>\n<p align="LEFT">\n	<span style="font-size: 14px\;"><span style="font-family: times new roman\;"><b>Where: </b>73 Plymouth Street Mansfield\, MA 02048</span></span></p>\n<p align="LEFT">\n	<span style="font-size: 14px\;"><span style="font-family: times new roman\;"><b>Time: </b>8:00a.m. - 2:00p.m.</span></span></p>\n<p align="LEFT">\n	<span style="font-size: 14px\;"><span style="font-family: times new roman\;"><b>For more information please call or email:</b></span></span></p>\n<p align="LEFT">\n	<span style="font-size: 14px\;"><span style="font-family: times new roman\;">800-783-6766 Ext. 111<br />\n	<a href="mailto:info@millerrecycling.com">info@millerrecycling.com</a></span></span></p>\n<p align="LEFT">\n	<span style="font-size: 14px\;"><span style="font-family: times new roman\;"><b>Or visit our website:</b></span></span></p>\n<p>\n	<span style="font-size: 14px\;"><span style="font-family: times new roman\;">www.MillerRecycling.com</span></span></p>\n
LOCATION:73 Plymouth Street Mansfield\, MA 02048
UID:e.1730.419
SEQUENCE:3
DTSTAMP:20260421T100535Z
URL:https://www.tri-townchamber.org/events/details/free-e-waste-event-at-miller-recycling-corporation-10-19-2013-419
END:VEVENT

END:VCALENDAR
