BEGIN:VCALENDAR
VERSION:2.0
PRODID:-//ChamberMaster//Event Calendar 2.0//EN
METHOD:PUBLISH
X-PUBLISHED-TTL:P3D
REFRESH-INTERVAL:P3D
CALSCALE:GREGORIAN
BEGIN:VEVENT
DTSTART:20151205T000000Z
DTEND:20151205T020000Z
X-MICROSOFT-CDO-ALLDAYEVENT:FALSE
SUMMARY:FREE Crocheting Lesson
DESCRIPTION:What's a better gift to your loved ones than your own creation? We will offer the class and you take home your creation. For materials\, you will need at least one Medium Weight/Worsted Weight yarn and one crochet hook size 5/H8. You can also purchase the material for $5 on site at the store.
X-ALT-DESC;FMTTYPE=text/html:What&#39\;s a better gift to your loved ones than your own creation? We will offer the class and you take home your creation. For materials\, you will need at least one Medium Weight/Worsted Weight yarn and one crochet hook size 5/H8. You can also purchase the material for $5 on site at the store.
LOCATION:Berry Frozen Yogurt & Smoothies\, 175 Mansfield Avenue\, Norton (By Roche Bros.)
UID:e.1730.2032
SEQUENCE:3
DTSTAMP:20260419T141746Z
URL:https://www.tri-townchamber.org/events/details/free-crocheting-lesson-12-04-2015-2032
END:VEVENT

END:VCALENDAR
