BEGIN:VCALENDAR
VERSION:2.0
PRODID:-//ChamberMaster//Event Calendar 2.0//EN
METHOD:PUBLISH
X-PUBLISHED-TTL:P3D
REFRESH-INTERVAL:P3D
CALSCALE:GREGORIAN
BEGIN:VEVENT
DTSTART:20150625T113000Z
DTEND:20150625T190000Z
X-MICROSOFT-CDO-ALLDAYEVENT:FALSE
SUMMARY:FRCS 9th Annual Golf Tournament
DESCRIPTION:SUPPORT OUR SCHOOL! (Foxborough Regional Charter School)\n\nSchedule of Events:\n\n7:30AM-8:30AM Registration/Continental Breakfast\n\n8:45AM Instructions/Announcements\n\n9:00AM Best Ball Format Shot Gun Start\n\nLuncheon\, Awards\, Raffles and 50/50 Drawing \n\nContests Longest Drive - Men's & Women's\n\nClosest to the Pin - Men's & Women's\n\nHole in One - $25\,000\n\n1st\, 2nd and 3rd Place Teams\n\nPutting Contest\n\nLink to event brochure:\n\nhttp://www.foxboroughrcs.org/wp-content/uploads/2013/05/Brochure-2015-Golfer-Donor-Sponsor-Forms.pdf
X-ALT-DESC;FMTTYPE=text/html:SUPPORT OUR SCHOOL! (Foxborough Regional Charter School)<br />\nSchedule of Events:<br />\n7:30AM-8:30AM Registration/Continental Breakfast<br />\n8:45AM Instructions/Announcements<br />\n9:00AM Best Ball Format Shot Gun Start<br />\nLuncheon\, Awards\, Raffles and 50/50 Drawing&nbsp\;<br />\nContests Longest Drive -&nbsp\;Men&#39\;s &amp\; Women&#39\;s<br />\nClosest to the Pin - Men&#39\;s &amp\; Women&#39\;s<br />\nHole in One - $25\,000<br />\n1st\, 2nd and 3rd Place Teams<br />\nPutting Contest<br />\nLink to event brochure:<br />\n<a href="http://www.foxboroughrcs.org/wp-content/uploads/2013/05/Brochure-2015-Golfer-Donor-Sponsor-Forms.pdf">http://www.foxboroughrcs.org/wp-content/uploads/2013/05/Brochure-2015-Golfer-Donor-Sponsor-Forms.pdf</a><br />\n&nbsp\;
LOCATION:Norton Country Club 188 Oak Street\, Norton\, MA 02766
UID:e.1730.1664
SEQUENCE:3
DTSTAMP:20260420T015553Z
URL:https://www.tri-townchamber.org/events/details/frcs-9th-annual-golf-tournament-06-25-2015-1664
END:VEVENT

END:VCALENDAR
