BEGIN:VCALENDAR
VERSION:2.0
PRODID:-//ChamberMaster//Event Calendar 2.0//EN
METHOD:PUBLISH
X-PUBLISHED-TTL:P3D
REFRESH-INTERVAL:P3D
CALSCALE:GREGORIAN
BEGIN:VEVENT
DTSTART:20140207T003000Z
DTEND:20140207T020000Z
X-MICROSOFT-CDO-ALLDAYEVENT:FALSE
SUMMARY:Foxborough Sign Bylaw Public Workshop
DESCRIPTION:Please join the Billboard Advisory Committee\, Community Opportunities Group\, Inc. and Bluestone Planning Group at a public workshop to discuss issues related to a new sign bylaw for the Town of Foxborough.\n\nThe purpose of the workshop will be to:\n\n  Discuss and get feedback on the proposed DRAFT bylaw.\n\n  Have a question and answer period for residents\, businesses\, and other stakeholders.\n\nThe workshop is open to all members of the public.\n\nPlease contact the Town of Foxborough Planning Department for copies of the draft bylaw. Copies of the draft bylaw will be available Monday\, February 3\, 2014 for public review.\n\n \n\nQuestions? Please contact the Town of Foxborough Planning Department at (508) 543-1250
X-ALT-DESC;FMTTYPE=text/html:Please join the Billboard Advisory Committee\, Community Opportunities Group\, Inc. and Bluestone Planning Group at a public workshop to discuss issues related to a new sign bylaw for the Town of Foxborough.<br />\nThe purpose of the workshop will be to:<br />\n&bull\; Discuss and get feedback on the proposed DRAFT bylaw.<br />\n&bull\; Have a question and answer period for residents\, businesses\, and other stakeholders.<br />\nThe workshop is open to all members of the public.<br />\nPlease contact the Town of Foxborough Planning Department for copies of the draft bylaw. Copies of the draft bylaw will be available Monday\, February 3\, 2014 for public review.<br />\n&nbsp\;<br />\nQuestions? Please contact the Town of Foxborough Planning Department at (508) 543-1250<br />\n
LOCATION:Boyden Public Library Community Room 10 Bird Street Foxborough\, MA
UID:e.1730.968
SEQUENCE:3
DTSTAMP:20260421T034558Z
URL:https://www.tri-townchamber.org/events/details/foxborough-sign-bylaw-public-workshop-02-06-2014-968
END:VEVENT

END:VCALENDAR
