BEGIN:VCALENDAR
VERSION:2.0
PRODID:-//ChamberMaster//Event Calendar 2.0//EN
METHOD:PUBLISH
X-PUBLISHED-TTL:P3D
REFRESH-INTERVAL:P3D
CALSCALE:GREGORIAN
BEGIN:VEVENT
DTSTART:20140117T000000Z
DTEND:20140117T020000Z
X-MICROSOFT-CDO-ALLDAYEVENT:FALSE
SUMMARY:Foxborough Sign Bylaw Public Workshop
DESCRIPTION:Please join Community Opportunities Group\, Inc. and Bluestone Planning Group at a public workshop to participate in the creation of a new sign bylaw for the Town of Foxborough.\n\nThe purpose of the workshop will be to: Provide education on the sign bylaw process and regulatory framework to the public Gain consensus on "good" design principles Obtain feedback from the business community and residents on regulatory and design issues. Provide technical assistance\n\nThe workshop is open to all members of the public.\n\n \n\nQuestions? Please contact the Town of Foxborough Planning Department at (508) 543-1250
X-ALT-DESC;FMTTYPE=text/html:Please join Community Opportunities Group\, Inc. and Bluestone Planning Group at a public workshop to participate in the creation of a new sign bylaw for the Town of Foxborough.<br />\nThe purpose of the workshop will be to: Provide education on the sign bylaw process and regulatory framework to the public Gain consensus on &ldquo\;good&rdquo\; design principles Obtain feedback from the business community and residents on regulatory and design issues. Provide technical assistance<br />\nThe workshop is open to all members of the public.<br />\n&nbsp\;<br />\nQuestions? Please contact the Town of Foxborough Planning Department at (508) 543-1250<br />\n
LOCATION:Boyden Public Library Community Room 10 Bird Street Foxborough\, MA
UID:e.1730.453
SEQUENCE:3
DTSTAMP:20260421T051044Z
URL:https://www.tri-townchamber.org/events/details/foxborough-sign-bylaw-public-workshop-01-16-2014-453
END:VEVENT

END:VCALENDAR
