BEGIN:VCALENDAR
VERSION:2.0
PRODID:-//ChamberMaster//Event Calendar 2.0//EN
METHOD:PUBLISH
X-PUBLISHED-TTL:P3D
REFRESH-INTERVAL:P3D
CALSCALE:GREGORIAN
BEGIN:VEVENT
DTSTART:20130608T130000Z
DTEND:20130609T010000Z
X-MICROSOFT-CDO-ALLDAYEVENT:FALSE
SUMMARY:Foxboro Founders Day
DESCRIPTION:
X-ALT-DESC;FMTTYPE=text/html:&nbsp\;
LOCATION:
UID:e.1730.9
SEQUENCE:3
DTSTAMP:20260421T160904Z
URL:https://www.tri-townchamber.org/events/details/foxboro-founders-day-06-08-2013-9
END:VEVENT

END:VCALENDAR
