BEGIN:VCALENDAR
VERSION:2.0
PRODID:-//ChamberMaster//Event Calendar 2.0//EN
METHOD:PUBLISH
X-PUBLISHED-TTL:P3D
REFRESH-INTERVAL:P3D
CALSCALE:GREGORIAN
BEGIN:VEVENT
DTSTART:20140809T130000Z
DTEND:20140809T170000Z
X-MICROSOFT-CDO-ALLDAYEVENT:FALSE
SUMMARY:Foxboro Community Olympic Day sponsored by the Foxboro Rotary
DESCRIPTION:Save the date for the inaugural Foxboro Community Olympic Day sponsored by the Foxboro Rotary!!\n\nSaturday August 9th 9:00 to 1:00 behind the Ahearn School.\n\nThere will be two categories:\n\n1) Family fun events for all ages and abilities\n\n2) Sign up as an individual or in teams of 4-6 for the "Olympic Events" geared for age 6-100 \n\n--Frisbee toss\, lacrosse shot\, soccer kick\, football throw\, hula hoop\, baseball/ softball throw\, field hockey dribbling\, basketball shot\, running races\n\nIndividual and team winners in various age categories.\n\nIf you are not on vacation\, sign up and have some fun. IT'S FREE!! Look for further information on foxbororotary.org over the coming month!!
X-ALT-DESC;FMTTYPE=text/html:Save the date for the inaugural Foxboro Community Olympic Day sponsored by the Foxboro Rotary!!<br />\nSaturday August 9th 9:00 to 1:00 behind the Ahearn School.<br />\nThere will be two categories:<br />\n1) Family fun events for all ages and abilities<br />\n2) Sign up as an individual or in teams of 4-6 for the &ldquo\;Olympic Events&rdquo\; geared for age 6-100&hellip\;<br />\n--Frisbee toss\, lacrosse shot\, soccer kick\, football throw\, hula hoop\, baseball/ softball throw\, field hockey dribbling\, basketball shot\, running races<br />\nIndividual and team winners in various age categories.<br />\nIf you are not on vacation\, sign up and have some fun. IT&rsquo\;S FREE!! Look for further information on foxbororotary.org over the coming month!!
LOCATION:behind the Ahearn School in Foxboro
UID:e.1730.1019
SEQUENCE:3
DTSTAMP:20260420T165055Z
URL:https://www.tri-townchamber.org/events/details/foxboro-community-olympic-day-sponsored-by-the-foxboro-rotary-08-09-2014-1019
END:VEVENT

END:VCALENDAR
