BEGIN:VCALENDAR
VERSION:2.0
PRODID:-//ChamberMaster//Event Calendar 2.0//EN
METHOD:PUBLISH
X-PUBLISHED-TTL:P3D
REFRESH-INTERVAL:P3D
CALSCALE:GREGORIAN
BEGIN:VEVENT
DTSTART:20150620T133000Z
DTEND:20150620T170000Z
X-MICROSOFT-CDO-ALLDAYEVENT:FALSE
SUMMARY:Foxboro Community Olympic Day sponsored by the Foxboro Rotary
DESCRIPTION:Saturday August 9th 9:00 to 1:00 behind the Ahern School.\n\nJoin the Fun\n\nActivities for Ages 3-12 - All are Welcome\n\nFrisbee Toss\, Football Throw\, Lacrosse Shot\, Baseball/Softball Throw\, Basketball Shot\, Hula Hoop\, Soccer Kick\, Running Races and Field Hockey Dribbling\n\n\n\nFree Hamburgers & Hotdogs\n\n\n\nRain date June 27  9:30-12:30
X-ALT-DESC;FMTTYPE=text/html:Saturday August 9th 9:00 to 1:00 behind the Ahern School.<br />\nJoin the Fun<br />\nActivities for Ages 3-12 - All are Welcome<br />\nFrisbee Toss\, Football Throw\, Lacrosse Shot\, Baseball/Softball Throw\, Basketball Shot\, Hula Hoop\, Soccer Kick\, Running Races and Field Hockey Dribbling<br />\n<br />\nFree Hamburgers &amp\; Hotdogs<br />\n<br />\nRain date June 27 &nbsp\;9:30-12:30
LOCATION:behind the Ahern School in Foxboro (Stather Field)
UID:e.1730.1658
SEQUENCE:3
DTSTAMP:20260420T015715Z
URL:https://www.tri-townchamber.org/events/details/foxboro-community-olympic-day-sponsored-by-the-foxboro-rotary-06-20-2015-1658
END:VEVENT

END:VCALENDAR
