BEGIN:VCALENDAR
VERSION:2.0
PRODID:-//ChamberMaster//Event Calendar 2.0//EN
METHOD:PUBLISH
X-PUBLISHED-TTL:P3D
REFRESH-INTERVAL:P3D
CALSCALE:GREGORIAN
BEGIN:VEVENT
DTSTART:20151028T230000Z
DTEND:20151029T003000Z
X-MICROSOFT-CDO-ALLDAYEVENT:FALSE
SUMMARY:Foot and Ankle Care: Common Conditions and Disorders
DESCRIPTION:Join Brigham and Women's Orthopedic/Sports Medicine Department's Dr. Christopher Chiodo\, Dr. Jeremy Smith\, and Physician Assistant Samantha Noonan as they discuss sports injuries\, sprains and strains\, tendon issues\, arthritis\, bunions\, and other conditions that affect the feet and ankles. To learn more and register for this event\, please call (866) 378-9164.
X-ALT-DESC;FMTTYPE=text/html:Join Brigham and Women&#39\;s Orthopedic/Sports Medicine&nbsp\;Department&#39\;s Dr. Christopher Chiodo\, Dr. Jeremy Smith\, and Physician Assistant Samantha Noonan as they discuss sports injuries\, sprains and strains\, tendon issues\, arthritis\, bunions\, and other conditions that affect the feet and ankles. <strong>To learn more and register for this event\, please call (866) 378-9164.</strong>
LOCATION:2d Floor Conference Room\, Brigham and Women's/Mass General Health Care Center\, 20 Patriot Place\, Foxborough MA
UID:e.1730.1838
SEQUENCE:3
DTSTAMP:20260419T172527Z
URL:https://www.tri-townchamber.org/events/details/foot-and-ankle-care-common-conditions-and-disorders-10-28-2015-1838
END:VEVENT

END:VCALENDAR
