BEGIN:VCALENDAR
VERSION:2.0
PRODID:-//ChamberMaster//Event Calendar 2.0//EN
METHOD:PUBLISH
X-PUBLISHED-TTL:P3D
REFRESH-INTERVAL:P3D
CALSCALE:GREGORIAN
BEGIN:VEVENT
DTSTART:20131008T210000Z
DTEND:20131008T230000Z
X-MICROSOFT-CDO-ALLDAYEVENT:FALSE
SUMMARY:Food Tasting ~ Oktoberfest
DESCRIPTION:Our 6th Annual Oktoberfest Food Tasting\, come enjoy food from around our towns.  \n\n\n\nIt is time again for the Tri-Town Chamber of Commerce\, Sixth Annual Tri-Town Community Oktoberfest to benefit the food pantries of Foxboro\, Mansfield and Norton. Almost $30\,000 has been donated to the Three Food Pantries over the first 5 years of running the food tasting event! We are hoping you will join us again in supporting this great event.\n\n   \n\nGET YOUR TICKETS TODAY - The event is rain or shine\, under the big beautiful tents at Comcast.\n\n\n\nOktoberfest Premier Sponsor: Covidien\n\n\n\nParticipating Restaurants as of September 16th\n\n	Alberto's Pub & Pizza\, Norton\n	Antonia's Deli\, Foxboro\n	Asia Grill & Sushi\, Mansfield\n	Bertucci's Italian Restaurant\, Mansfield\n	Capriotti's Sandwich Shop\, Foxboro\n	Coldstone Creamery\, Mansfield\n	Corks Fine Wine & Liquor\, Mansfield\n	Dagget-Crandal-Newcomb Home\, Norton\n	Edible Arrangements\, Foxboro\n	Fresh Catch\, Mansfield\n	Nature Spring Water\n	Panera Bread\, North Attleboro\n	Pikes Peak Mining Co. at the Holiday Inn\, Mansfield\n	Qdoba Mexican Grill\, Mansfield\n	Hot and Cold Beverages - OfficeLand of Mansfield\n\nEntertainment:\n\nAlternative Rock by Consider It Done    Charlie Losiewicz- Guitar\, Lead vocals\, Liam Harwood- Guitar\, Backup vocals\, Tucker Still- Bass\, Backup vocals\, Brian McCarthy- Guitar\, Backup vocals and Matt Garvin- Drums\, Backup vocals\n\n\n\nMassage: Wicked Good Chiropractic
X-ALT-DESC;FMTTYPE=text/html:Our 6th Annual Oktoberfest Food Tasting\, come enjoy food from around our towns. &nbsp\;<br />\n<br />\nIt is time again for the Tri-Town Chamber of Commerce\, Sixth Annual Tri-Town Community Oktoberfest to benefit the food pantries of Foxboro\, Mansfield and Norton. Almost $30\,000 has been donated to the Three Food Pantries over the first 5 years of running the food tasting event! We are hoping you will join us again in supporting this great event.<br />\n&nbsp\;&nbsp\;&nbsp\;<br />\n<strong>GET YOUR TICKETS TODAY</strong> - The event is rain or shine\, under the big beautiful tents at Comcast.<br />\n<br />\nOktoberfest Premier Sponsor: <span style="font-size:14px\;"><strong>Covidien</strong></span><br />\n<br />\nParticipating Restaurants as of September 16th\n<ul>\n	<li>Alberto&#39\;s Pub &amp\; Pizza\, Norton</li>\n	<li>Antonia&#39\;s Deli\, Foxboro</li>\n	<li>Asia Grill &amp\; Sushi\, Mansfield</li>\n	<li>Bertucci&#39\;s Italian Restaurant\, Mansfield</li>\n	<li>Capriotti&#39\;s&nbsp\;Sandwich Shop\, Foxboro</li>\n	<li>Coldstone&nbsp\;Creamery\, Mansfield</li>\n	<li>Corks Fine Wine &amp\; Liquor\, Mansfield</li>\n	<li>Dagget-Crandal-Newcomb Home\, Norton</li>\n	<li>Edible Arrangements\, Foxboro</li>\n	<li>Fresh Catch\, Mansfield</li>\n	<li>Nature Spring Water</li>\n	<li>Panera Bread\, North Attleboro</li>\n	<li>Pikes Peak Mining Co. at the Holiday Inn\, Mansfield</li>\n	<li>Qdoba Mexican Grill\, Mansfield</li>\n	<li>Hot and Cold Beverages - OfficeLand&nbsp\;of Mansfield</li>\n</ul>\n<em>Entertainment:</em><br />\nAlternative Rock by <strong>Consider It Done</strong> &ndash\;&nbsp\; Charlie Losiewicz- Guitar\, Lead vocals\, Liam Harwood- Guitar\, Backup vocals\, Tucker Still- Bass\, Backup vocals\, Brian McCarthy- Guitar\, Backup vocals and Matt Garvin- Drums\, Backup vocals<br />\n<br />\n<em>Massage: </em>Wicked Good Chiropractic
LOCATION:The Comcast Center in Mansfield located at 885 South Main Street in Mansfield
UID:e.1730.23
SEQUENCE:3
DTSTAMP:20260421T100353Z
URL:https://www.tri-townchamber.org/events/details/food-tasting-oktoberfest-10-08-2013-23
END:VEVENT

END:VCALENDAR
