BEGIN:VCALENDAR
VERSION:2.0
PRODID:-//ChamberMaster//Event Calendar 2.0//EN
METHOD:PUBLISH
X-PUBLISHED-TTL:P3D
REFRESH-INTERVAL:P3D
CALSCALE:GREGORIAN
BEGIN:VEVENT
DTSTART:20141221T160000Z
DTEND:20141221T230000Z
X-MICROSOFT-CDO-ALLDAYEVENT:FALSE
SUMMARY:First Annual Community Kwanzaa
DESCRIPTION:Mansfield to Celebrate the First Annual Community Kwanzaa!!  \n\nNational Black Doll Museum of History & Culture invites all residents to attend their First Annual Community Kwanzaa celebration featuring food\, performances and a ceremony on Sunday\, Dec. 21st\,2014 @ 288 N. Main Street in Mansfield.\n\n\n\n Kwanzaa is a communal\, cultural celebration that honors African-American people and their heritage. This celebration will feature a Vendors Market and Children's Village from 11 a.m. to 3 p.m.  The Kwanzaa Ceremony with performance of African drumming\, song\, libation and feast and will begin at 3 p.m.\n\nKwanzaa is a celebration for all people\, focusing on family\, friends and the fruits of the earth. During Kwanzaa\, people are invited to ponder the Nguzo Saba\, seven powerful principles derived from African heritage\, as a means of taking stock\, celebrating achievements and entering the future refreshed and renewed. Admission is Free!!RSVP suggested   Program is being sponsored in part by local cultural councils.\n\n\n\nFor more information\, please contact:\n\nDebbie Britt     (774)284-4729\n\ndebbiebritt@nbdmhc.org\n\nNational Black Doll Museum of History & Culture\n\n288 N. Main Street Mansfield\, Ma 02048
X-ALT-DESC;FMTTYPE=text/html:<strong>Mansfield to Celebrate the First Annual Community Kwanzaa!!&nbsp\;&nbsp\;</strong><br />\nNational Black Doll Museum of History &amp\; Culture invites all residents to attend their First Annual Community Kwanzaa celebration featuring food\, performances and a ceremony on Sunday\, Dec. 21st\,2014 @ 288 N. Main Street in Mansfield.<br />\n<br />\n&#8203\;Kwanzaa is a communal\, cultural celebration that honors African-American people and their heritage. This celebration will feature a Vendors Market and Children&#39\;s Village from 11 a.m. to 3 p.m.&nbsp\; The Kwanzaa Ceremony with performance of African drumming\, song\, libation and feast and will begin at 3 p.m.<br />\nKwanzaa is a celebration for all people\, focusing on family\, friends and the fruits of the earth. During Kwanzaa\, people are invited to ponder the Nguzo Saba\, seven powerful principles derived from African heritage\, as a means of taking stock\, celebrating achievements and entering the future refreshed and renewed. Admission is Free!!RSVP suggested&nbsp\;&nbsp\; Program is being sponsored in part by local cultural councils.<br />\n<br />\nFor more information\, please contact:<br />\nDebbie Britt&nbsp\;&nbsp\;&nbsp\;&nbsp\; (774)284-4729<br />\ndebbiebritt@nbdmhc.org<br />\n<strong>National Black Doll Museum of History &amp\; Culture</strong><br />\n288 N. Main Street Mansfield\, Ma 02048&nbsp\;&nbsp\;
LOCATION:National Black Doll Museum of History & Culture 288 N. Main Street Mansfield\, Ma 02048
UID:e.1730.1087
SEQUENCE:3
DTSTAMP:20260420T113517Z
URL:https://www.tri-townchamber.org/events/details/first-annual-community-kwanzaa-12-21-2014-1087
END:VEVENT

END:VCALENDAR
