BEGIN:VCALENDAR
VERSION:2.0
PRODID:-//ChamberMaster//Event Calendar 2.0//EN
METHOD:PUBLISH
X-PUBLISHED-TTL:P3D
REFRESH-INTERVAL:P3D
CALSCALE:GREGORIAN
BEGIN:VEVENT
DTSTART:20150407T210000Z
DTEND:20150407T230000Z
X-MICROSOFT-CDO-ALLDAYEVENT:FALSE
SUMMARY:Financial Literacy for Small Business
DESCRIPTION:Financial Literacy Workshop for Small Business Learn about what a bank looks for in a Borrower and about various deposit account products that can help your business.
X-ALT-DESC;FMTTYPE=text/html:Financial Literacy Workshop for Small Business Learn about what a bank looks for in a Borrower and about various deposit account products that can help your business.
LOCATION:The Michael G. McGinty Meeting Room Foxborough Public Safety Building 8 Chestnut Street Foxborough\, MA 02035
UID:e.1730.1267
SEQUENCE:3
DTSTAMP:20260420T050042Z
URL:https://www.tri-townchamber.org/events/details/financial-literacy-for-small-business-04-07-2015-1267
END:VEVENT

END:VCALENDAR
