BEGIN:VCALENDAR
VERSION:2.0
PRODID:-//ChamberMaster//Event Calendar 2.0//EN
METHOD:PUBLISH
X-PUBLISHED-TTL:P3D
REFRESH-INTERVAL:P3D
CALSCALE:GREGORIAN
BEGIN:VEVENT
DTSTART:20150515T120000Z
DTEND:20150515T133000Z
X-MICROSOFT-CDO-ALLDAYEVENT:FALSE
SUMMARY:Facebook - Making it Work for Your Business
DESCRIPTION:Facebook   Making It Work For Your Business\n\nIs everyone telling you to get on Facebook for your business?\n\nAre you wondering if businesses really succeed on Facebook?\n\nAre you interested in learning how?\nJoin us for this workshop and learn the behind the scenes secrets to using Facebook as a marketing tool for your business.  You'll learn what it takes to really make Facebook work for you.  It's not as casual as it seems.\n\n\n\nThis workshop is an up to the minute passport to what's currently happening on Facebook.  No Power Point here.  We'll be live on Facebook answering all your questions.\n\n\n\nBecause of the changing nature of Facebook\, the class is flexible in its format making sure we talk about what's most important to you. \n\n\n\nTopics we usually discuss are:\n\n\n	How to schedule on Facebook.\n	Why reviewing your numbers on a weekly basis is important.\n	How you can determine the best times of day to post.\n	What it takes to engage your audience and why it's critical to your success.\n\nWhether you are new to Facebook\, have been using it for business or have attended the class in the past\, you'll want to sign up for this workshop to find out what's new.\n\n \n\nAbout Jen Vondenbrink\n\nJen Vondenbrink\, Social Media Manager for Tri-Town Chamber of Commerce and owner of LS Business Solutions\, has been providing social media education to the Tri-Town area since 2008.  Jen helps businesses understand how to integrate social media into their marketing efforts one step at a time.
X-ALT-DESC;FMTTYPE=text/html:<strong style="line-height: 20.7999992370605px\;">Facebook &ndash\; Making It Work For Your Business</strong>\n\n<div style="line-height: 20.7999992370605px\; margin-left: 40px\;">Is everyone telling you to get on Facebook for your business?<br />\nAre you wondering if businesses really succeed on Facebook?<br />\nAre you interested in learning how?</div>\n<span style="line-height: 20.7999992370605px\;">Join us for this workshop and learn the behind the scenes secrets to using Facebook as a marketing tool for your business.&nbsp\; You&rsquo\;ll learn what it takes to really make Facebook work for you.&nbsp\; It&rsquo\;s not as casual as it seems.</span><br style="line-height: 20.7999992370605px\;" />\n<br style="line-height: 20.7999992370605px\;" />\n<span style="line-height: 20.7999992370605px\;">This workshop is an up to the minute passport to what&rsquo\;s currently happening on Facebook.&nbsp\; No Power Point here.&nbsp\; We&rsquo\;ll be live on Facebook answering all your questions.</span><br style="line-height: 20.7999992370605px\;" />\n<br style="line-height: 20.7999992370605px\;" />\n<span style="line-height: 20.7999992370605px\;">Because of the changing nature of Facebook\, the class is flexible in its format making sure we talk about what&rsquo\;s most important to you.&nbsp\;</span>\n\n<div style="line-height: 20.7999992370605px\;"><br />\n<em><strong>Topics we usually discuss are:</strong></em></div>\n\n<ul style="line-height: 20.7999992370605px\;">\n	<li>How to schedule on Facebook.</li>\n	<li>Why reviewing your numbers on a weekly basis is important.</li>\n	<li>How you can determine the best times of day to post.</li>\n	<li>What it takes to engage your audience and why it&rsquo\;s critical to your success.</li>\n</ul>\n<span style="line-height: 20.7999992370605px\;">Whether you are new to Facebook\, have been using it for business or have attended the class in the past\, you&rsquo\;ll want to sign up for this workshop to find out what&rsquo\;s new.</span><br style="line-height: 20.7999992370605px\;" />\n<span style="line-height: 20.7999992370605px\;">&nbsp\;</span><br style="line-height: 20.7999992370605px\;" />\n<em style="line-height: 20.7999992370605px\;"><strong>About Jen&nbsp\;Vondenbrink</strong><br />\nJen&nbsp\;Vondenbrink\, Social Media Manager for Tri-Town Chamber of Commerce and owner of LS Business Solutions\, has been providing social media education to the Tri-Town area since 2008.&nbsp\; Jen helps businesses understand how to integrate social media into their marketing efforts one step at a time.</em>
LOCATION:At the Tri-Town Chamber of Commerce\, located within Mansfield Crossing shopping Center\, our building is back behind Kohls Department Store. Seminar held in the Davis Financial Conference Room
UID:e.1730.1094
SEQUENCE:3
DTSTAMP:20260420T015410Z
URL:https://www.tri-townchamber.org/events/details/facebook-making-it-work-for-your-business-05-15-2015-1094
END:VEVENT

END:VCALENDAR
