BEGIN:VCALENDAR
VERSION:2.0
PRODID:-//ChamberMaster//Event Calendar 2.0//EN
METHOD:PUBLISH
X-PUBLISHED-TTL:P3D
REFRESH-INTERVAL:P3D
CALSCALE:GREGORIAN
BEGIN:VEVENT
DTSTART:20151211T130000Z
DTEND:20151211T130000Z
X-MICROSOFT-CDO-ALLDAYEVENT:FALSE
SUMMARY:Executive Committee Meeting
DESCRIPTION:Executive Committee Meeting
X-ALT-DESC;FMTTYPE=text/html:Executive Committee Meeting
LOCATION:at the Tri-Town Chamber of Commerce Building held in the Davis Financial Conference Room
UID:e.1730.1302
SEQUENCE:3
DTSTAMP:20260419T154510Z
URL:https://www.tri-townchamber.org/events/details/executive-committee-meeting-12-11-2015-1302
END:VEVENT

END:VCALENDAR
