BEGIN:VCALENDAR
VERSION:2.0
PRODID:-//ChamberMaster//Event Calendar 2.0//EN
METHOD:PUBLISH
X-PUBLISHED-TTL:P3D
REFRESH-INTERVAL:P3D
CALSCALE:GREGORIAN
BEGIN:VEVENT
DTSTART:20141002T120000Z
DTEND:20141002T133000Z
X-MICROSOFT-CDO-ALLDAYEVENT:FALSE
SUMMARY:Executive Committee Meeting
DESCRIPTION:This is a meeting for the Tri-Town Chamber of Commerce Executive Committee
X-ALT-DESC;FMTTYPE=text/html:This is a meeting for the Tri-Town Chamber of Commerce Executive Committee
LOCATION:held at the Chamber in the Barrows Insurance Agency\, Inc. Conference Room
UID:e.1730.609
SEQUENCE:3
DTSTAMP:20260420T133124Z
URL:https://www.tri-townchamber.org/events/details/executive-committee-meeting-10-02-2014-609
END:VEVENT

END:VCALENDAR
