BEGIN:VCALENDAR
VERSION:2.0
PRODID:-//ChamberMaster//Event Calendar 2.0//EN
METHOD:PUBLISH
X-PUBLISHED-TTL:P3D
REFRESH-INTERVAL:P3D
CALSCALE:GREGORIAN
BEGIN:VEVENT
DTSTART:20140508T120000Z
DTEND:20140508T133000Z
X-MICROSOFT-CDO-ALLDAYEVENT:FALSE
SUMMARY:Executive Committee Meeting
DESCRIPTION:This is a meeting for the Tri-Town Chamber of Commerce Executive Committee
X-ALT-DESC;FMTTYPE=text/html:This is a meeting for the Tri-Town Chamber of Commerce Executive Committee
LOCATION:held at the Chamber in the Barrows Insurance Agency\, Inc. Conference Room
UID:e.1730.598
SEQUENCE:3
DTSTAMP:20260421T000217Z
URL:https://www.tri-townchamber.org/events/details/executive-committee-meeting-05-08-2014-598
END:VEVENT

END:VCALENDAR
