BEGIN:VCALENDAR
VERSION:2.0
PRODID:-//ChamberMaster//Event Calendar 2.0//EN
METHOD:PUBLISH
X-PUBLISHED-TTL:P3D
REFRESH-INTERVAL:P3D
CALSCALE:GREGORIAN
BEGIN:VEVENT
DTSTART:20131007T150000Z
DTEND:20131007T223000Z
X-MICROSOFT-CDO-ALLDAYEVENT:FALSE
SUMMARY:Event at United Way of Greater Attleboro/Taunton
DESCRIPTION:This year's Annual Fall Classic Golf Tournament will be held at Fall River Country Club on Monday\, October 7th.   \n\n	If you are looking to enjoy a round of golf with colleagues or friends\, please register today at www.uwgat.org.  For organizations looking to sponsor our annual event\, please visit the website for all sponsorship opportunities currently available.\n\n	Thank you and we look forward to seeing you on October 7th!
X-ALT-DESC;FMTTYPE=text/html:<font size="2">This year&#39\;s Annual Fall Classic Golf Tournament&nbsp\;will be held at Fall River Country Club on Monday\, October 7th.&nbsp\;&nbsp\; <o:p></o:p></font>\n<p>\n	<span style="font-family: &quot\;Arial&quot\;\,&quot\;sans-serif&quot\;\; font-size: 10pt\;">If you are looking to enjoy a round of golf with colleagues or friends\, please register today at <a href="http://www.uwgat.org/" title="blocked::http://www.uwgat.org/"><font color="#0000ff">www.uwgat.org</font></a>. &nbsp\;For organizations looking to sponsor our annual event\, please visit the website for all sponsorship opportunities currently available.</span><o:p></o:p></p>\n<p>\n	<span style="font-family: &quot\;Arial&quot\;\,&quot\;sans-serif&quot\;\; font-size: 10pt\;">Thank you and we look forward to seeing you on October 7th!</span> <o:p></o:p></p>\n
LOCATION:Fall River Country Club 4232 North Main Street Fall River\, MA
UID:e.1730.161
SEQUENCE:3
DTSTAMP:20260421T100958Z
URL:https://www.tri-townchamber.org/events/details/event-at-united-way-of-greater-attleboro-taunton-10-07-2013-161
END:VEVENT

END:VCALENDAR
