BEGIN:VCALENDAR
VERSION:2.0
PRODID:-//ChamberMaster//Event Calendar 2.0//EN
METHOD:PUBLISH
X-PUBLISHED-TTL:P3D
REFRESH-INTERVAL:P3D
CALSCALE:GREGORIAN
BEGIN:VEVENT
DTSTART:20140314T230000Z
DTEND:20140315T033000Z
X-MICROSOFT-CDO-ALLDAYEVENT:FALSE
SUMMARY:Event at MMAS\, Inc
DESCRIPTION:Join MMAS and our supporters for a fabulous evening on Friday March 14 at Lakeview Pavilion in Foxboro. Our annual gala features a cabaret cocktail hour\, dinner and dancing\, live and silent auctions and of course\,live entertainment.\n\nTickets are $65 per person and reservations can be made by callings MMAS at 508-339-2822. Invite all your friends!\n\n\n\nContributions to MMAS provide year-round programs  in theater\, music and art. MMAS is a non-profit organization dedicated to fostering the arts. MMAS is home to  the Black Box Theater and the Morini Gallery. For information about upcoming shows and exhibits\,go to mmas.org.
X-ALT-DESC;FMTTYPE=text/html:Join MMAS and our supporters for a fabulous evening on Friday March 14 at Lakeview Pavilion in Foxboro. Our annual gala features a cabaret cocktail hour\, dinner and dancing\, live and silent auctions and of course\,live entertainment.<br />\nTickets are $65 per person and reservations can be made by callings MMAS at 508-339-2822. Invite all your friends!<br />\n<br />\nContributions to MMAS provide year-round programs&nbsp\; in theater\, music and art. MMAS is a non-profit organization dedicated to fostering the arts. MMAS is home to&nbsp\; the Black Box Theater and the Morini Gallery. For information about upcoming shows and exhibits\,go to mmas.org.<br type="_moz" />\n
LOCATION:
UID:e.1730.748
SEQUENCE:3
DTSTAMP:20260421T015851Z
URL:https://www.tri-townchamber.org/events/details/event-at-mmas-inc-03-14-2014-748
END:VEVENT

END:VCALENDAR
