BEGIN:VCALENDAR
VERSION:2.0
PRODID:-//ChamberMaster//Event Calendar 2.0//EN
METHOD:PUBLISH
X-PUBLISHED-TTL:P3D
REFRESH-INTERVAL:P3D
CALSCALE:GREGORIAN
BEGIN:VEVENT
DTSTART;VALUE=DATE:20140129
DTEND;VALUE=DATE:20140201
TRANSP:TRANSPARENT
X-MICROSOFT-CDO-ALLDAYEVENT:TRUE
SUMMARY:Event at Great Woods Glass Art
DESCRIPTION:1/2 Price sale on handcrafted stained glass gifts - last three days of our winter sale! Buy 1 and get 1 of equal or lesser value for 1/2 price - any items between $5. to $400. Shop now for Valentine's Day gifts.
X-ALT-DESC;FMTTYPE=text/html:1/2 Price sale on handcrafted stained glass gifts - last three days of our winter sale! Buy 1 and get 1 of equal or lesser value for 1/2 price - any items between $5. to $400. Shop now for Valentine&#39\;s Day gifts.
LOCATION:Great Woods Glass Art 259 Mansfield Avenue Norton\, MA 02766
UID:e.1730.750
SEQUENCE:3
DTSTAMP:20260421T051733Z
URL:https://www.tri-townchamber.org/events/details/event-at-great-woods-glass-art-01-29-2014-750
END:VEVENT

END:VCALENDAR
