BEGIN:VCALENDAR
VERSION:2.0
PRODID:-//ChamberMaster//Event Calendar 2.0//EN
METHOD:PUBLISH
X-PUBLISHED-TTL:P3D
REFRESH-INTERVAL:P3D
CALSCALE:GREGORIAN
BEGIN:VEVENT
DTSTART:20140327T223000Z
DTEND:20140328T000000Z
X-MICROSOFT-CDO-ALLDAYEVENT:FALSE
SUMMARY:Event at Barrie Bruce Golf Schools
DESCRIPTION:Learn To Play Golf! Meet Barrie\, PGA Teaching Professional\, and Owner/Director of the Barrie Bruce Golf Schools at our OPEN HOUSE\, Thursday\, March 27th from 6:30 - 8PM at the function hall at Wentworth Hills Country Club\, 27 Bow Street\, Plainville.  This complimentary evening includes: Introduction of Golf School programs\, Door prize drawings for lessons and more\, light hors d'oeuvres\, and a cash bar.  Whether new to the game\, or a current golfer looking to advance your skills\, we hope to see you as we introduce our programs for Spring and Summer 2014!
X-ALT-DESC;FMTTYPE=text/html:<p><span style="font-size:14px\;"><strong><span style="font-size:18px\;">Learn To Play Golf! </span></strong>Meet Barrie\, PGA Teaching Professional\, and Owner/Director of the Barrie Bruce Golf Schools at our OPEN HOUSE\, Thursday\, March 27th from 6:30 - 8PM at the function hall at Wentworth Hills Country Club\, 27 Bow Street\, Plainville.&nbsp\; This complimentary evening includes: Introduction of Golf School programs\, Door prize drawings for lessons and more\, light hors d&#39\;oeuvres\, and a cash bar.&nbsp\; Whether new to the game\, or a current golfer looking to advance your skills\, we hope to see you as we introduce our programs for Spring and Summer 2014!</span><br />\n&nbsp\;</p>\n
LOCATION:Wentworth Hills Country Club Function Hall \, 27 Bow Street\, Plainville
UID:e.1730.984
SEQUENCE:3
DTSTAMP:20260421T015043Z
URL:https://www.tri-townchamber.org/events/details/event-at-barrie-bruce-golf-schools-03-27-2014-984
END:VEVENT

END:VCALENDAR
