BEGIN:VCALENDAR
VERSION:2.0
PRODID:-//ChamberMaster//Event Calendar 2.0//EN
METHOD:PUBLISH
X-PUBLISHED-TTL:P3D
REFRESH-INTERVAL:P3D
CALSCALE:GREGORIAN
BEGIN:VEVENT
DTSTART:20131112T223000Z
DTEND:20131113T003000Z
X-MICROSOFT-CDO-ALLDAYEVENT:FALSE
SUMMARY:Estate Planning Seminar
DESCRIPTION:Correira & Correira LLP\, in partnership with Mansfield Bank\, is presenting an estate planning seminar on November 12. The seminar will take place at the TPC Boston in Norton\, Massachusetts. It will begin at 5:30 p.m. and light refreshments will be served. Topics will include estate tax planning\, Medicaid planning\, small business planning\, and special needs planning\, as well as an overview of recent changes to the probate\, tax and Medicaid rules in Massachusetts\, Rhode Island and Florida. The seminar will be followed by a question and answer segment with members of the firm.
X-ALT-DESC;FMTTYPE=text/html:Correira &amp\; Correira LLP\, in partnership with Mansfield Bank\, is presenting an estate planning seminar on November 12. The seminar will take place at the TPC Boston in Norton\, Massachusetts. It will begin at 5:30 p.m. and light refreshments will be served. Topics will include estate tax planning\, Medicaid planning\, small business planning\, and special needs planning\, as well as an overview of recent changes to the probate\, tax and Medicaid rules in Massachusetts\, Rhode Island and Florida. The seminar will be followed by a question and answer segment with members of the firm. 
LOCATION:TPC Boston 400 Arnold Palmer Blvd. Norton\, MA 02766
UID:e.1730.435
SEQUENCE:3
DTSTAMP:20260421T095713Z
URL:https://www.tri-townchamber.org/events/details/estate-planning-seminar-11-12-2013-435
END:VEVENT

END:VCALENDAR
