BEGIN:VCALENDAR
VERSION:2.0
PRODID:-//ChamberMaster//Event Calendar 2.0//EN
METHOD:PUBLISH
X-PUBLISHED-TTL:P3D
REFRESH-INTERVAL:P3D
CALSCALE:GREGORIAN
BEGIN:VEVENT
DTSTART:20141022T213000Z
DTEND:20141022T230000Z
X-MICROSOFT-CDO-ALLDAYEVENT:FALSE
SUMMARY:Estate Planning Seminar
DESCRIPTION:Mansfield Bank & Correira & Correira LLP are sponsoring an estate planning seminar. Light refreshments will be served.
X-ALT-DESC;FMTTYPE=text/html:Mansfield Bank &amp\; Correira &amp\; Correira LLP are sponsoring an estate planning seminar. Light refreshments will be served.
LOCATION:Mansfield Bank 728 West Center Street West Bridgewater
UID:e.1730.1073
SEQUENCE:3
DTSTAMP:20260420T131915Z
URL:https://www.tri-townchamber.org/events/details/estate-planning-seminar-10-22-2014-1073
END:VEVENT

END:VCALENDAR
