BEGIN:VCALENDAR
VERSION:2.0
PRODID:-//ChamberMaster//Event Calendar 2.0//EN
METHOD:PUBLISH
X-PUBLISHED-TTL:P3D
REFRESH-INTERVAL:P3D
CALSCALE:GREGORIAN
BEGIN:VEVENT
DTSTART:20141014T213000Z
DTEND:20141014T230000Z
X-MICROSOFT-CDO-ALLDAYEVENT:FALSE
SUMMARY:Estate Planning Seminar
DESCRIPTION:Mansfield Bank & Correira & Correira LLP are presenting a free estate planning seminar. Light refreshments served.
X-ALT-DESC;FMTTYPE=text/html:Mansfield Bank &amp\; Correira &amp\; Correira LLP are presenting a free estate planning seminar. Light refreshments served.
LOCATION:Mansfield Bank 225 West Main Street Norton
UID:e.1730.1072
SEQUENCE:3
DTSTAMP:20260420T132036Z
URL:https://www.tri-townchamber.org/events/details/estate-planning-seminar-10-14-2014-1072
END:VEVENT

END:VCALENDAR
