BEGIN:VCALENDAR
VERSION:2.0
PRODID:-//ChamberMaster//Event Calendar 2.0//EN
METHOD:PUBLISH
X-PUBLISHED-TTL:P3D
REFRESH-INTERVAL:P3D
CALSCALE:GREGORIAN
BEGIN:VEVENT
DTSTART:20150406T213000Z
DTEND:20150406T230000Z
X-MICROSOFT-CDO-ALLDAYEVENT:FALSE
SUMMARY:Estate Planning Seminar
DESCRIPTION:Mansfield Bank is hosting an Estate Planning Seminar. Thomas J Marks Esq. Will be presenting.
X-ALT-DESC;FMTTYPE=text/html:Mansfield Bank is hosting an Estate Planning Seminar. Thomas J Marks Esq. Will be presenting.
LOCATION:04/06/15 Plainville Branch
UID:e.1730.1579
SEQUENCE:3
DTSTAMP:20260420T045830Z
URL:https://www.tri-townchamber.org/events/details/estate-planning-seminar-04-06-2015-1579
END:VEVENT

END:VCALENDAR
