BEGIN:VCALENDAR
VERSION:2.0
PRODID:-//ChamberMaster//Event Calendar 2.0//EN
METHOD:PUBLISH
X-PUBLISHED-TTL:P3D
REFRESH-INTERVAL:P3D
CALSCALE:GREGORIAN
BEGIN:VEVENT
DTSTART:20140917T123000Z
DTEND:20140917T200000Z
X-MICROSOFT-CDO-ALLDAYEVENT:FALSE
SUMMARY:Entrepreneurial Workshops
DESCRIPTION:SEED Corporation and Mansfield Bank  in Cooperation with\;\n\nU.S. Small Business Administration\, Massachusetts Small Business Development Center\, Tri-Town Chamber of Commerce & SCORE \n\n\n\npresent FREE Basic Entrepreneurial Workshops on Wednesday\, September 17\, 2014  Registration:  8:30 a.m.\n\n	Session I:  9:00 a.m.   Noon  "LEARN THE FUNDAMENTALS OF PLANNING\, PREPARING FOR AND FINANCING YOUR BUSINESS"\n	Session II: 1:00   4:00 p.m.  "LEARN TO UNDERSTAND FINANCIAL STATEMENTS AND HOW THEY HELP TO DETERMINE THE HEALTH OF YOUR BUSINESS."\n\nComplimentary breakfast and lunch will be provided.\n\nPre-registration is required by Wednesday\, September 10th.  \n\n_________________________________________________________________________________\n\n\n\nFor Registration/Information\, contact SEED Corporation @ 508-822-1020\n\n \n\n"The Massachusetts Small Business Development Center Network is a partnership program with the U.S. Small Business Administration and the Massachusetts Department of Business and Technology under cooperative agreement 7-603001-Z-0022-27 through the University of Massachusetts Amherst. SBDCs are a program supported by the U. S. Small Business Administration and extended to the public on a non-discriminatory basis. SBA cannot endorse any products\, opinions or services of any external parties or activities. Reasonable accommodations for persons with disabilities will be made\, if requested at least two weeks in advance.  For further information\, contact the Southeastern MA SBDC office at (508) 673-9783."
X-ALT-DESC;FMTTYPE=text/html:SEED Corporation and&nbsp\;Mansfield Bank &nbsp\;in Cooperation with\;<br />\nU.S. Small Business Administration\,&nbsp\;Massachusetts Small Business Development Center\,&nbsp\;Tri-Town Chamber of Commerce&nbsp\;&amp\; SCORE&nbsp\;<br />\n<br />\npresent FREE&nbsp\;Basic Entrepreneurial Workshops on&nbsp\;Wednesday\, September 17\, 2014 &nbsp\;Registration:&nbsp\; 8:30 a.m.\n<ul>\n	<li>Session I:&nbsp\; 9:00 a.m. &ndash\; Noon &nbsp\;&quot\;LEARN THE FUNDAMENTALS OF PLANNING\, PREPARING FOR AND&nbsp\;FINANCING YOUR BUSINESS&quot\;</li>\n	<li>Session II: 1:00 &ndash\; 4:00 p.m. &nbsp\;&quot\;LEARN TO UNDERSTAND FINANCIAL STATEMENTS AND HOW THEY&nbsp\;HELP TO DETERMINE THE HEALTH OF YOUR BUSINESS.&quot\;</li>\n</ul>\nComplimentary breakfast and lunch will be provided.<br />\n<em><strong>Pre-registration is required by Wednesday\, September 10th.</strong></em>&nbsp\;&nbsp\;<br />\n_________________________________________________________________________________<br />\n<br />\nFor Registration/Information\, contact SEED Corporation @ 508-822-1020<br />\n&nbsp\;<br />\n<em><span style="font-size:11px\;"><span style="font-family:arial\;">&ldquo\;The Massachusetts Small Business Development Center Network is a partnership program with the U.S. Small Business Administration and the Massachusetts Department of Business and Technology under cooperative agreement 7-603001-Z-0022-27 through the University of Massachusetts Amherst. SBDCs are a program supported by the U. S. Small Business Administration and extended to the public on a non-discriminatory basis. SBA cannot endorse any products\, opinions or services of any external parties or activities. Reasonable accommodations for persons with disabilities will be made\, if requested at least two weeks in advance.&nbsp\; For further information\, contact the Southeastern MA SBDC office at (508) 673-9783.&rdquo\;</span></span></em>
LOCATION:Mansfield Holiday Inn 31 Hampshire Street\, Mansfield\, MA 02048
UID:e.1730.1049
SEQUENCE:3
DTSTAMP:20260420T150148Z
URL:https://www.tri-townchamber.org/events/details/entrepreneurial-workshops-09-17-2014-1049
END:VEVENT

END:VCALENDAR
